BEGIN:VCALENDAR
VERSION:2.0
PRODID:-//Liverpool Cemetery - ECPv6.15.11//NONSGML v1.0//EN
CALSCALE:GREGORIAN
METHOD:PUBLISH
X-WR-CALNAME:Liverpool Cemetery
X-ORIGINAL-URL:https://liverpoolcemetery.com.au
X-WR-CALDESC:Events for Liverpool Cemetery
REFRESH-INTERVAL;VALUE=DURATION:PT1H
X-Robots-Tag:noindex
X-PUBLISHED-TTL:PT1H
BEGIN:VTIMEZONE
TZID:Australia/Sydney
BEGIN:STANDARD
TZOFFSETFROM:+1100
TZOFFSETTO:+1000
TZNAME:AEST
DTSTART:20200404T160000
END:STANDARD
BEGIN:DAYLIGHT
TZOFFSETFROM:+1000
TZOFFSETTO:+1100
TZNAME:AEDT
DTSTART:20201003T160000
END:DAYLIGHT
BEGIN:STANDARD
TZOFFSETFROM:+1100
TZOFFSETTO:+1000
TZNAME:AEST
DTSTART:20210403T160000
END:STANDARD
BEGIN:DAYLIGHT
TZOFFSETFROM:+1000
TZOFFSETTO:+1100
TZNAME:AEDT
DTSTART:20211002T160000
END:DAYLIGHT
BEGIN:STANDARD
TZOFFSETFROM:+1100
TZOFFSETTO:+1000
TZNAME:AEST
DTSTART:20220402T160000
END:STANDARD
BEGIN:DAYLIGHT
TZOFFSETFROM:+1000
TZOFFSETTO:+1100
TZNAME:AEDT
DTSTART:20221001T160000
END:DAYLIGHT
BEGIN:STANDARD
TZOFFSETFROM:+1100
TZOFFSETTO:+1000
TZNAME:AEST
DTSTART:20230401T160000
END:STANDARD
BEGIN:DAYLIGHT
TZOFFSETFROM:+1000
TZOFFSETTO:+1100
TZNAME:AEDT
DTSTART:20230930T160000
END:DAYLIGHT
END:VTIMEZONE
BEGIN:VEVENT
DTSTART;TZID=Australia/Sydney:20220513T113000
DTEND;TZID=Australia/Sydney:20220513T123000
DTSTAMP:20260420T171629
CREATED:20220512T234633Z
LAST-MODIFIED:20220512T234633Z
UID:9598-1652441400-1652445000@liverpoolcemetery.com.au
SUMMARY:Compassionate Companions
DESCRIPTION:Compassionate Companions \nA safe place where stories are shared and memories are honoured. \nJoin us on Zoom\nWhen: Fortnightly on Fridays\nTime: 11.30am – 12.30pm
URL:https://liverpoolcemetery.com.au/event/compassionate-companions-3/
LOCATION:NSW
ATTACH;FMTTYPE=image/jpeg:https://liverpoolcemetery.com.au/wp-content/uploads/GC-CompCom-Banner1-fb-1.jpg
END:VEVENT
BEGIN:VEVENT
DTSTART;TZID=Australia/Sydney:20220512T100000
DTEND;TZID=Australia/Sydney:20220512T113000
DTSTAMP:20260420T171629
CREATED:20220306T230536Z
LAST-MODIFIED:20220306T230545Z
UID:9290-1652349600-1652355000@liverpoolcemetery.com.au
SUMMARY:Walk the Stations of the Light at Rookwood
DESCRIPTION:Walk the Stations of the Light at Rookwood Catholic Cemetery\nPlease join us as we walk the Stations of the Light at the peaceful Waterway Memorial Gardens. \nWhen: 12 May at 10am\nWaterway Memorial Gardens\nTherry St\nRookwood Catholic Cemetery \nPlease RSVP: sinead@catholiccemeteries.com.au
URL:https://liverpoolcemetery.com.au/event/walk-the-stations-of-the-light-at-rookwood/
LOCATION:Rookwood Catholic Cemetery\, Barnet Avenue\, Rookwood\, NSW\, 2141\, Australia
ATTACH;FMTTYPE=image/jpeg:https://liverpoolcemetery.com.au/wp-content/uploads/GC-StationsCross-fb.jpg
END:VEVENT
BEGIN:VEVENT
DTSTART;TZID=Australia/Sydney:20220511T103000
DTEND;TZID=Australia/Sydney:20220511T113000
DTSTAMP:20260420T171629
CREATED:20220427T100410Z
LAST-MODIFIED:20220427T100410Z
UID:9560-1652265000-1652268600@liverpoolcemetery.com.au
SUMMARY:May Monthly Mass - Liverpool
DESCRIPTION:Please join us for our May Monthly Mass\nWhen: 10.30am\, Wednesday 11th May 2022\nWhere: All Saints Parish\, Liverpool \nPresided By: Fr Michael Smith
URL:https://liverpoolcemetery.com.au/event/may-monthly-mass-liverpool/
LOCATION:All Saints Parish\, 48 George Street\, Liverpool\, NSW\, 2170\, Australia
ATTACH;FMTTYPE=image/jpeg:https://liverpoolcemetery.com.au/wp-content/uploads/white-lily-on-bench-at-funeral.jpg
END:VEVENT
BEGIN:VEVENT
DTSTART;TZID=Australia/Sydney:20220507T120000
DTEND;TZID=Australia/Sydney:20220507T130000
DTSTAMP:20260420T171629
CREATED:20220409T010415Z
LAST-MODIFIED:20220508T071205Z
UID:9529-1651924800-1651928400@liverpoolcemetery.com.au
SUMMARY:Join us for our special Mothers Day Mass
DESCRIPTION:We hope you can join us for one of our special Mother’s Day Mass at Rookwood Catholic Cemetery on Saturday 7th May\, 2022 \nRookwood Catholic Cemetery \nWhen: Saturday 7th May\, 2022 at 12pm\nWhere: Mary\, Mother of Mercy Chapel at Rookwood Catholic Cemetery\nPresided by: Bishop Terry Brady \n\nView the Recorded Mothers Day Mass
URL:https://liverpoolcemetery.com.au/event/join-us-for-our-special-mothers-day-mass/
LOCATION:Rookwood Catholic Cemetery\, Barnet Avenue\, Rookwood\, NSW\, 2141\, Australia
ATTACH;FMTTYPE=image/jpeg:https://liverpoolcemetery.com.au/wp-content/uploads/CCC_News-MothersDay.jpg
END:VEVENT
BEGIN:VEVENT
DTSTART;TZID=Australia/Sydney:20220503T193000
DTEND;TZID=Australia/Sydney:20220503T203000
DTSTAMP:20260420T171629
CREATED:20220305T063929Z
LAST-MODIFIED:20220305T063929Z
UID:9243-1651606200-1651609800@liverpoolcemetery.com.au
SUMMARY:Ageing Well Masterclass 5 – Haberfield
DESCRIPTION:Ageing Well – Haberfield\nMasterclass 5 – Ageing Gracefully\, Living Fruitfully\nThey shall bear fruit in old age. They shall be fresh and flourishing’ Psalm 92: 12 -13\nCatholic spirituality of ageing exploring blessings and challenges for a more faith filled life \n  \nWhen: Weekly at 7.30pm\, starting on the 29th March\nWhere:St Joan Of Arc School\, 88 Dalhousie St\, Haberfield
URL:https://liverpoolcemetery.com.au/event/ageing-well-masterclass-5-haberfield/
LOCATION:NSW
END:VEVENT
BEGIN:VEVENT
DTSTART;TZID=Australia/Sydney:20220426T193000
DTEND;TZID=Australia/Sydney:20220426T203000
DTSTAMP:20260420T171629
CREATED:20220305T063756Z
LAST-MODIFIED:20220305T063756Z
UID:9241-1651001400-1651005000@liverpoolcemetery.com.au
SUMMARY:Ageing Well Masterclass 4 – Haberfield
DESCRIPTION:Ageing Well – Haberfield\nMasterclass 4 – Financial Planning for Retirement and Beyond\nFinancial experts help you map out your financial needs in retirement\, we’ll also look at what to prepare for financially and legally from the NSW Trustee & Guardian. \nWhen: Weekly at 7.30pm\, starting on the 29th March\nWhere:St Joan Of Arc School\, 88 Dalhousie St\, Haberfield
URL:https://liverpoolcemetery.com.au/event/ageing-well-masterclass-4-haberfield/
LOCATION:NSW
END:VEVENT
BEGIN:VEVENT
DTSTART;TZID=Australia/Sydney:20220426T100000
DTEND;TZID=Australia/Sydney:20220426T110000
DTSTAMP:20260420T171629
CREATED:20220305T064701Z
LAST-MODIFIED:20220305T064701Z
UID:9251-1650967200-1650970800@liverpoolcemetery.com.au
SUMMARY:Ageing Well Masterclass 5 – Liverpool
DESCRIPTION:Ageing Well – Liverpool\nMasterclass 5 – Ageing Gracefully\, Living Fruitfully\nThey shall bear fruit in old age. They shall be fresh and flourishing’ Psalm 92: 12 -13\nCatholic spirituality of ageing exploring blessings and challenges for a more faith filled life \nWhen: Weekly at 10am\, starting on the 29th March\nWhere: All Saints Parish\, Liverpool
URL:https://liverpoolcemetery.com.au/event/ageing-well-masterclass-5-liverpool/
LOCATION:NSW
END:VEVENT
BEGIN:VEVENT
DTSTART;TZID=Australia/Sydney:20220419T193000
DTEND;TZID=Australia/Sydney:20220419T203000
DTSTAMP:20260420T171629
CREATED:20220305T063501Z
LAST-MODIFIED:20220305T063501Z
UID:9239-1650396600-1650400200@liverpoolcemetery.com.au
SUMMARY:Ageing Well Masterclass 3– Haberfield
DESCRIPTION:Ageing Well – Haberfield\nMasterclass 3 – Navigating Aged Care\nWith such a large range of options for your aged care needs this masterclass will look at how best to consider which option is best for you. \nWhen: Weekly at 7.30pm\, starting on the 29th March\nWhere:St Joan Of Arc School\, 88 Dalhousie St\, Haberfield
URL:https://liverpoolcemetery.com.au/event/ageing-well-masterclass-3-haberfield/
LOCATION:NSW
END:VEVENT
BEGIN:VEVENT
DTSTART;TZID=Australia/Sydney:20220419T100000
DTEND;TZID=Australia/Sydney:20220419T110000
DTSTAMP:20260420T171629
CREATED:20220305T064549Z
LAST-MODIFIED:20220305T064549Z
UID:9249-1650362400-1650366000@liverpoolcemetery.com.au
SUMMARY:Ageing Well Masterclass 4 – Liverpool
DESCRIPTION:Ageing Well – Liverpool\nMasterclass 4 – Financial Planning for Retirement and Beyond\nFinancial experts help you map out your financial needs in retirement\, we’ll also look at what to prepare for financially and legally from the NSW Trustee & Guardian \nWhen: Weekly at 10am\, starting on the 29th March\nWhere: All Saints Parish\, Liverpool
URL:https://liverpoolcemetery.com.au/event/ageing-well-masterclass-4-liverpool/
LOCATION:NSW
END:VEVENT
BEGIN:VEVENT
DTSTART;TZID=Australia/Sydney:20220415T113000
DTEND;TZID=Australia/Sydney:20220415T123000
DTSTAMP:20260420T171629
CREATED:20220305T065249Z
LAST-MODIFIED:20220306T224800Z
UID:9257-1650022200-1650025800@liverpoolcemetery.com.au
SUMMARY:Compassionate Companions
DESCRIPTION:Compassionate Companions\nA safe place where stories are shared and memories are honoured. \nJoin us on Zoom\nWhen: Fortnightly on Fridays\nTime: 11.30am – 12.30pm
URL:https://liverpoolcemetery.com.au/event/compassionate-companions-5/
LOCATION:NSW
ATTACH;FMTTYPE=image/jpeg:https://liverpoolcemetery.com.au/wp-content/uploads/GC-CompCom-Banner1-fb-e1646446330809.jpg
END:VEVENT
BEGIN:VEVENT
DTSTART;VALUE=DATE:20220415
DTEND;VALUE=DATE:20220419
DTSTAMP:20260420T171629
CREATED:20220406T052615Z
LAST-MODIFIED:20220406T052811Z
UID:9511-1649980800-1650326399@liverpoolcemetery.com.au
SUMMARY:Easter Office Closures
DESCRIPTION:Please note that our offices will be closed\, and no funeral services will be permitted to take place on the below days. \n\nGOOD FRIDAY-Friday\, April 15th 2022\nEASTER SATURDAY-Saturday\, April 16th 2022\nEASTER SUNDAY-Sunday\, April 17th 2022\nEASTER MONDAY–Monday\, April 18th 2022
URL:https://liverpoolcemetery.com.au/event/easter-office-closures-2/
LOCATION:NSW
ATTACH;FMTTYPE=image/jpeg:https://liverpoolcemetery.com.au/wp-content/uploads/Easter.jpg
END:VEVENT
BEGIN:VEVENT
DTSTART;TZID=Australia/Sydney:20220413T080000
DTEND;TZID=Australia/Sydney:20220413T170000
DTSTAMP:20260420T171629
CREATED:20220305T062919Z
LAST-MODIFIED:20220305T062919Z
UID:9235-1649836800-1649869200@liverpoolcemetery.com.au
SUMMARY:Ageing Well Masterclass 5 – Lidcombe
DESCRIPTION:Ageing Well – Lidcombe\nMasterclass 5 – Ageing Gracefully\, Living Fruitfully\nThey shall bear fruit in old age. They shall be fresh and flourishing’ Psalm 92: 12 -13\nCatholic spirituality of ageing exploring blessings and challenges for a more faith filled life \n  \nLIDCOMBE\nWhen: Weekly at 2pm\, starting Wednesday 16 March\nWhere: Dooleys Catholic Club\, 11-17 Church St\, Lidcombe
URL:https://liverpoolcemetery.com.au/event/ageing-well-masterclass-5-lidcombe/
LOCATION:NSW
END:VEVENT
BEGIN:VEVENT
DTSTART;TZID=Australia/Sydney:20220412T100000
DTEND;TZID=Australia/Sydney:20220412T110000
DTSTAMP:20260420T171629
CREATED:20220305T064427Z
LAST-MODIFIED:20220305T064427Z
UID:9247-1649757600-1649761200@liverpoolcemetery.com.au
SUMMARY:Ageing Well Masterclass 3 – Liverpool
DESCRIPTION:Ageing Well – Liverpool\nMasterclass 3 – Navigating Aged Care\nWith such a large range of options for your aged care needs this masterclass will look at how best to consider which option is best for you. \nWhen: Weekly at 10am\, starting on the 29th March\nWhere: All Saints Parish\, Liverpool
URL:https://liverpoolcemetery.com.au/event/ageing-well-masterclass-3-liverpool/
LOCATION:NSW
END:VEVENT
BEGIN:VEVENT
DTSTART;TZID=Australia/Sydney:20220408T170000
DTEND;TZID=Australia/Sydney:20220408T180000
DTSTAMP:20260420T171629
CREATED:20220330T005407Z
LAST-MODIFIED:20220330T051235Z
UID:9491-1649437200-1649440800@liverpoolcemetery.com.au
SUMMARY:Prayer Service for Ukraine
DESCRIPTION:Please join us for our Prayer Service for Ukraine\nFriday 8 April 2022 at 5pm\nMary\, Mother of Mercy Chapel\, Rookwood Catholic Cemetery\nCelebrated by Fr Simon Ckuj \nRefreshments will beprovided after service \nDue to limited seating\, RSVP required by 5 April to marketing@catholiccemeteries.com.au
URL:https://liverpoolcemetery.com.au/event/prayer-service-for-ukraine/
LOCATION:NSW
ATTACH;FMTTYPE=image/jpeg:https://liverpoolcemetery.com.au/wp-content/uploads/CCC-Ukraine-fb.jpg
END:VEVENT
BEGIN:VEVENT
DTSTART;TZID=Australia/Sydney:20220407T100000
DTEND;TZID=Australia/Sydney:20220407T110000
DTSTAMP:20260420T171629
CREATED:20220406T052247Z
LAST-MODIFIED:20220406T052405Z
UID:9509-1649325600-1649329200@liverpoolcemetery.com.au
SUMMARY:Walk the Stations of the Light at Rookwood
DESCRIPTION:Please join us as we walk the Stations of the Light at the peaceful Waterway Memorial Gardens. \nWhen: 7th April at 10am\nWaterway Chapel\nTherry St\nRookwood Catholic Cemetery \nPlease RSVP: sinead@catholiccemeteries.com.au
URL:https://liverpoolcemetery.com.au/event/walk-the-stations-of-the-light-at-rookwood-2/
LOCATION:Rookwood Catholic Cemetery\, Barnet Avenue\, Rookwood\, NSW\, 2141\, Australia
ATTACH;FMTTYPE=image/jpeg:https://liverpoolcemetery.com.au/wp-content/uploads/GC-StationsCross-fb.jpg
END:VEVENT
BEGIN:VEVENT
DTSTART;TZID=Australia/Sydney:20220406T140000
DTEND;TZID=Australia/Sydney:20220406T150000
DTSTAMP:20260420T171629
CREATED:20220305T062737Z
LAST-MODIFIED:20220305T062737Z
UID:9233-1649253600-1649257200@liverpoolcemetery.com.au
SUMMARY:Ageing Well Masterclass 4 – Lidcombe
DESCRIPTION:Ageing Well – Lidcombe\nMasterclass 4 – Financial Planning for Retirement and Beyond\nFinancial experts help you map out your financial needs in retirement\, we’ll also look at what to prepare for financially and legally from the NSW Trustee & Guardian. \nLIDCOMBE\nWhen: Weekly at 2pm\, starting Wednesday 16 March\nWhere: Dooleys Catholic Club\, 11-17 Church St\, Lidcombe
URL:https://liverpoolcemetery.com.au/event/ageing-well-masterclass-4-lidcombe/
LOCATION:NSW
END:VEVENT
BEGIN:VEVENT
DTSTART;TZID=Australia/Sydney:20220405T193000
DTEND;TZID=Australia/Sydney:20220405T203000
DTSTAMP:20260420T171629
CREATED:20220305T063114Z
LAST-MODIFIED:20220305T063114Z
UID:9237-1649187000-1649190600@liverpoolcemetery.com.au
SUMMARY:Ageing Well Masterclass 2 – Haberfield
DESCRIPTION:Ageing Well – Haberfield\nMasterclass 2 – Physical Wellbeing\nDelving into physical exercise\, nutrition\, fall prevention\, health checks\, carer fatigue\, and memory loss. \nWhen: Weekly at 7.30pm\, starting on the 29th March\nWhere:St Joan Of Arc School\, 88 Dalhousie St\, Haberfield
URL:https://liverpoolcemetery.com.au/event/ageing-well-masterclass-2-haberfield/
LOCATION:NSW
END:VEVENT
BEGIN:VEVENT
DTSTART;TZID=Australia/Sydney:20220405T100000
DTEND;TZID=Australia/Sydney:20220405T113000
DTSTAMP:20260420T171629
CREATED:20220306T230217Z
LAST-MODIFIED:20220401T000741Z
UID:9288-1649152800-1649158200@liverpoolcemetery.com.au
SUMMARY:Walk the Stations of the Cross at Rookwood
DESCRIPTION:Walk the Stations of the Cross at Rookwood Catholic Cemetery\nPlease join us as we walk the Stations of the Cross at the peaceful Waterway Memorial Gardens. \nWhen: 5th April at 10am\nWaterway Memorial Gardens\nTherry St\nRookwood Catholic Cemetery \nPlease RSVP: sinead@catholiccemeteries.com.au \n 
URL:https://liverpoolcemetery.com.au/event/walk-the-stations-of-the-cross-at-rookwood/
LOCATION:Rookwood Catholic Cemetery\, Barnet Avenue\, Rookwood\, NSW\, 2141\, Australia
ATTACH;FMTTYPE=image/jpeg:https://liverpoolcemetery.com.au/wp-content/uploads/GC-StationsCross-fb.jpg
END:VEVENT
BEGIN:VEVENT
DTSTART;TZID=Australia/Sydney:20220405T100000
DTEND;TZID=Australia/Sydney:20220405T110000
DTSTAMP:20260420T171629
CREATED:20220305T064256Z
LAST-MODIFIED:20220305T064256Z
UID:9245-1649152800-1649156400@liverpoolcemetery.com.au
SUMMARY:Ageing Well Masterclass 2 – Liverpool
DESCRIPTION:Ageing Well – Liverpool\nMasterclass 2 – Physical Wellbeing\nDelving into physical exercise\, nutrition\, fall prevention\, health checks\, carer fatigue\, and memory loss. \nWhen: Weekly at 10am\, starting on the 29th March\nWhere: All Saints Parish\, Liverpool
URL:https://liverpoolcemetery.com.au/event/ageing-well-masterclass-2-liverpool/
LOCATION:NSW
END:VEVENT
BEGIN:VEVENT
DTSTART;TZID=Australia/Sydney:20220401T113000
DTEND;TZID=Australia/Sydney:20220401T123000
DTSTAMP:20260420T171629
CREATED:20220305T065118Z
LAST-MODIFIED:20220306T224646Z
UID:9255-1648812600-1648816200@liverpoolcemetery.com.au
SUMMARY:Compassionate Companions
DESCRIPTION:Compassionate Companions\nA safe place where stories are shared and memories are honoured. \n  \nJoin us on Zoom\nWhen: Fortnightly on Fridays\nTime: 11.30am – 12.30pm
URL:https://liverpoolcemetery.com.au/event/compassionate-companions-4/
LOCATION:NSW
ATTACH;FMTTYPE=image/jpeg:https://liverpoolcemetery.com.au/wp-content/uploads/GC-CompCom-Banner1-fb-e1646446330809.jpg
END:VEVENT
BEGIN:VEVENT
DTSTART;TZID=Australia/Sydney:20220330T140000
DTEND;TZID=Australia/Sydney:20220330T150000
DTSTAMP:20260420T171629
CREATED:20220305T062607Z
LAST-MODIFIED:20220305T062607Z
UID:9231-1648648800-1648652400@liverpoolcemetery.com.au
SUMMARY:Ageing Well Masterclass 3 – Lidcombe
DESCRIPTION:Ageing Well Masterclasses – Lidcombe\nMasterclass 3 – Navigating Aged Care\nWith such a large range of options for your aged care needs this masterclass will look at how best to consider which option is best for you. \nWhen: 2pm Wednesday 30 March\nWhere: Dooleys Catholic Club\, 11-17 Church St\, Lidcombe
URL:https://liverpoolcemetery.com.au/event/ageing-well-masterclass-3-lidcombe/
LOCATION:NSW
END:VEVENT
BEGIN:VEVENT
DTSTART;TZID=Australia/Sydney:20220323T140000
DTEND;TZID=Australia/Sydney:20220323T150000
DTSTAMP:20260420T171629
CREATED:20220305T062400Z
LAST-MODIFIED:20220305T062400Z
UID:9229-1648044000-1648047600@liverpoolcemetery.com.au
SUMMARY:Ageing Well Masterclass 2 – Lidcombe
DESCRIPTION:Ageing Well – Lidcombe\nMasterclass 2 – Physical Wellbeing\nDelving into physical exercise\, nutrition\, fall prevention\, health checks\, carer fatigue\, and memory loss. \nLIDCOMBE\nWhen: Weekly at 2pm\, starting Wednesday 16 March\nWhere: Dooleys Catholic Club\, 11-17 Church St\, Lidcombe
URL:https://liverpoolcemetery.com.au/event/ageing-well-masterclass-2-lidcombe/
LOCATION:NSW
END:VEVENT
BEGIN:VEVENT
DTSTART;TZID=Australia/Sydney:20220318T113000
DTEND;TZID=Australia/Sydney:20220318T123000
DTSTAMP:20260420T171629
CREATED:20220305T011227Z
LAST-MODIFIED:20220305T011305Z
UID:9226-1647603000-1647606600@liverpoolcemetery.com.au
SUMMARY:Compassionate Companions
DESCRIPTION:Compassionate Companions\nA safe place where stories are shared and memories are honoured. \nJoin us on Zoom\nWhen: Fortnightly on Fridays\nTime: 11.30am – 12.30pm
URL:https://liverpoolcemetery.com.au/event/compassionate-companions-2/
LOCATION:NSW
ATTACH;FMTTYPE=image/jpeg:https://liverpoolcemetery.com.au/wp-content/uploads/GC-CompCom-Banner1-fb-e1646446330809.jpg
END:VEVENT
BEGIN:VEVENT
DTSTART;TZID=Australia/Sydney:20220316T140000
DTEND;TZID=Australia/Sydney:20220316T150000
DTSTAMP:20260420T171629
CREATED:20220305T005342Z
LAST-MODIFIED:20231109T023108Z
UID:9215-1647439200-1647442800@liverpoolcemetery.com.au
SUMMARY:Ageing Well Masterclasses - Lidcombe
DESCRIPTION:Ageing Well Masterclasses – Lidcombe\nDelivered in 5 weekly installments\, the Ageing Well masterclasses are designed to provide practical advice and support to help you navigate some of the issues around ageing\, along with information about the services available to you. \nMasterclass 1 – Social Connection and Psychological Wellbeing \nMasterclass 2 – Physical Wellbeing \nMasterclass 3 – Navigating Aged Care \nMasterclass 4 – Financial planning for retirement and beyond \nMasterclass 5 – Ageing Gracefully\, Living Fruitfully \nREGISTER AT LIDCOMBE NOW\nWhen: Weekly at 2pm\, starting Wednesday 16 March\nWhere: Dooleys Catholic Club\, 11-17 Church St\, Lidcombe \nFurther information
URL:https://liverpoolcemetery.com.au/event/ageing-well-masterclasses-lidcome/
LOCATION:Dooleys Catholic Club Lidcombe\, 11-17 Church Street\, Lidcombe\, NSW\, 2141\, Australia
ATTACH;FMTTYPE=image/png:https://liverpoolcemetery.com.au/wp-content/uploads/LWDW-content-woman.png
END:VEVENT
BEGIN:VEVENT
DTSTART;TZID=Australia/Sydney:20220316T100000
DTEND;TZID=Australia/Sydney:20220316T233000
DTSTAMP:20260420T171629
CREATED:20220306T225625Z
LAST-MODIFIED:20220306T225728Z
UID:9284-1647424800-1647473400@liverpoolcemetery.com.au
SUMMARY:Walk the Stations of the Cross at Rookwood
DESCRIPTION:Walk Stations of the Cross at Rookwood\nPlease join us as we walk the Stations of the Cross at the peaceful Waterway Memorial Gardens. \nWhen: 16 March at 10am\nWaterway Memorial Gardens\nTherry St\nRookwood Catholic Cemetery \n  \nPlease RSVP: sinead@catholiccemeteries.com.au
URL:https://liverpoolcemetery.com.au/event/stations-cross-rookwood-catholic/
LOCATION:Rookwood Catholic Cemetery\, Barnet Avenue\, Rookwood\, NSW\, 2141\, Australia
ATTACH;FMTTYPE=image/jpeg:https://liverpoolcemetery.com.au/wp-content/uploads/GC-StationsCross-fb.jpg
END:VEVENT
BEGIN:VEVENT
DTSTART;TZID=Australia/Sydney:20220309T103000
DTEND;TZID=Australia/Sydney:20220309T113000
DTSTAMP:20260420T171629
CREATED:20220213T204727Z
LAST-MODIFIED:20231031T053002Z
UID:9189-1646821800-1646825400@liverpoolcemetery.com.au
SUMMARY:March Monthly Mass Liverpool Cemetery
DESCRIPTION:Please join us for our Online Monthly Mass at 10.30am\, Live-streamed from the All Saints Parish\, Liverpool\nwith Fr Michael Smith. \nJOIN THE ONLINE MASS
URL:https://liverpoolcemetery.com.au/event/march-monthly-mass-liverpool-cemetery/
LOCATION:NSW
ATTACH;FMTTYPE=image/jpeg:https://liverpoolcemetery.com.au/wp-content/uploads/religion-wide.jpg
END:VEVENT
BEGIN:VEVENT
DTSTART;TZID=Australia/Sydney:20220304T113000
DTEND;TZID=Australia/Sydney:20220304T123000
DTSTAMP:20260420T171629
CREATED:20220305T003701Z
LAST-MODIFIED:20220305T004148Z
UID:9208-1646393400-1646397000@liverpoolcemetery.com.au
SUMMARY:Compassionate Companions
DESCRIPTION:Compassionate Companions\nA safe place where stories are shared and memories are honoured. \nJoin us on Zoom\nWhen: Fortnightly on Fridays\nTime: 11.30am – 12.30pm
URL:https://liverpoolcemetery.com.au/event/compassionate-companions/
LOCATION:NSW
ATTACH;FMTTYPE=image/jpeg:https://liverpoolcemetery.com.au/wp-content/uploads/GC-CompCom-Banner1-fb-e1646446330809.jpg
END:VEVENT
BEGIN:VEVENT
DTSTART;TZID=Australia/Sydney:20220209T103000
DTEND;TZID=Australia/Sydney:20220209T223000
DTSTAMP:20260420T171629
CREATED:20220103T185305Z
LAST-MODIFIED:20220103T185400Z
UID:9101-1644402600-1644445800@liverpoolcemetery.com.au
SUMMARY:February Monthly Mass Liverpool Cemetery
DESCRIPTION:Please join us for our Online Monthly Mass at 10.30am\, Live-streamed from the All Saints Parish\, Liverpool\nwith Fr Michael Smith. \nJOIN THE ONLINE MASS
URL:https://liverpoolcemetery.com.au/event/february-monthly-mass-liverpool-cemetery/
LOCATION:NSW
ATTACH;FMTTYPE=image/jpeg:https://liverpoolcemetery.com.au/wp-content/uploads/Candles-events.jpg
END:VEVENT
BEGIN:VEVENT
DTSTART;TZID=Australia/Sydney:20220112T103000
DTEND;TZID=Australia/Sydney:20220112T113000
DTSTAMP:20260420T171630
CREATED:20220103T184618Z
LAST-MODIFIED:20231031T053034Z
UID:9099-1641983400-1641987000@liverpoolcemetery.com.au
SUMMARY:January Monthly Mass Liverpool Cemetery
DESCRIPTION:Please join us for our Online Monthly Mass at 10.30am\, Live-streamed from the All Saints Parish\, Liverpool\nwith Fr Michael Smith. \nJOIN THE ONLINE MASS
URL:https://liverpoolcemetery.com.au/event/january-monthly-mass-liverpool-cemetery/
LOCATION:NSW
ATTACH;FMTTYPE=image/jpeg:https://liverpoolcemetery.com.au/wp-content/uploads/white-lily-on-bench-at-funeral.jpg
END:VEVENT
BEGIN:VEVENT
DTSTART;TZID=Australia/Sydney:20211224T080000
DTEND;TZID=Australia/Sydney:20220126T170000
DTSTAMP:20260420T171630
CREATED:20211215T014608Z
LAST-MODIFIED:20211215T014733Z
UID:9081-1640332800-1643216400@liverpoolcemetery.com.au
SUMMARY:Christmas + New Years Office Closures
DESCRIPTION:Christmas and New Year Office Closures\nPlease note that our offices will be closed\, and no funeral services will be permitted to take place on the below days. \n  \n\nCHRISTMAS DAY–Saturday\, December 25th 2021\nCHRISTMAS DAY PUBLIC HOLIDAY-Monday\, December 27th 2021\nBOXING DAY PUBLIC HOLIDAY–Tuesday\, December 28th 2021\nNEW YEARS DAY -Saturday\, January 1st 2022\nNEW YEARS DAY PUBLIC HOLIDAY -Monday\, January 3rd 2022\nAUSTRALIA DAY –Wednesday\, January 26th 2022
URL:https://liverpoolcemetery.com.au/event/christmas-new-years-office-closures/
LOCATION:NSW
ATTACH;FMTTYPE=image/jpeg:https://liverpoolcemetery.com.au/wp-content/uploads/xmas-fb-1221.jpg
END:VEVENT
END:VCALENDAR