BEGIN:VCALENDAR
VERSION:2.0
PRODID:-//Liverpool Cemetery - ECPv6.15.11//NONSGML v1.0//EN
CALSCALE:GREGORIAN
METHOD:PUBLISH
X-WR-CALNAME:Liverpool Cemetery
X-ORIGINAL-URL:https://liverpoolcemetery.com.au
X-WR-CALDESC:Events for Liverpool Cemetery
REFRESH-INTERVAL;VALUE=DURATION:PT1H
X-Robots-Tag:noindex
X-PUBLISHED-TTL:PT1H
BEGIN:VTIMEZONE
TZID:Australia/Sydney
BEGIN:STANDARD
TZOFFSETFROM:+1100
TZOFFSETTO:+1000
TZNAME:AEST
DTSTART:20210403T160000
END:STANDARD
BEGIN:DAYLIGHT
TZOFFSETFROM:+1000
TZOFFSETTO:+1100
TZNAME:AEDT
DTSTART:20211002T160000
END:DAYLIGHT
BEGIN:STANDARD
TZOFFSETFROM:+1100
TZOFFSETTO:+1000
TZNAME:AEST
DTSTART:20220402T160000
END:STANDARD
BEGIN:DAYLIGHT
TZOFFSETFROM:+1000
TZOFFSETTO:+1100
TZNAME:AEDT
DTSTART:20221001T160000
END:DAYLIGHT
BEGIN:STANDARD
TZOFFSETFROM:+1100
TZOFFSETTO:+1000
TZNAME:AEST
DTSTART:20230401T160000
END:STANDARD
BEGIN:DAYLIGHT
TZOFFSETFROM:+1000
TZOFFSETTO:+1100
TZNAME:AEDT
DTSTART:20230930T160000
END:DAYLIGHT
END:VTIMEZONE
BEGIN:VEVENT
DTSTART;TZID=Australia/Sydney:20220909T113000
DTEND;TZID=Australia/Sydney:20220909T123000
DTSTAMP:20260420T040126
CREATED:20220705T075400Z
LAST-MODIFIED:20231031T054110Z
UID:9259-1662723000-1662726600@liverpoolcemetery.com.au
SUMMARY:Compassionate Companions
DESCRIPTION:A safe place where stories are shared and memories are honoured. \nWhen: Fortnightly on Fridays\nTime: 11.30am – 12.30pm \nJoin us on Zoom \n\nMeeting ID: 969 4042 6907\n\nPasscode: 437686
URL:https://liverpoolcemetery.com.au/event/compassionate-companions-6/
LOCATION:NSW
ATTACH;FMTTYPE=image/jpeg:https://liverpoolcemetery.com.au/wp-content/uploads/GC-CompCom-Banner1-web.jpg
END:VEVENT
BEGIN:VEVENT
DTSTART;TZID=Australia/Sydney:20220907T190000
DTEND;TZID=Australia/Sydney:20220907T200000
DTSTAMP:20260420T040126
CREATED:20220822T020546Z
LAST-MODIFIED:20220822T020907Z
UID:9840-1662577200-1662580800@liverpoolcemetery.com.au
SUMMARY:Mention My Name Prayer Service - St Mary's Cathedral
DESCRIPTION:Please join us for a Remembrance Service for family\, friends and communities\, grieving the death of someone close\,\nto suicide or misadventure. \n7pm\, Wednesday 7th September 2022\nSt Mary’s Cathedral\, Sydney\n2 St Mary’s Road\, Sydney \nFor further information please contact the Grief Care Team on\n02 9646 6908 or email team@griefcare.com.au
URL:https://liverpoolcemetery.com.au/event/mention-my-name-prayer-service-st-marys-cathedral/
LOCATION:St Mary’s Cathedral\, 2 St Mary's Road\, Sydney\, NSW\, 2000\, Australia
ATTACH;FMTTYPE=image/jpeg:https://liverpoolcemetery.com.au/wp-content/uploads/CCC-MMN-fb-e1661133452290.jpg
END:VEVENT
BEGIN:VEVENT
DTSTART;TZID=Australia/Sydney:20220906T193000
DTEND;TZID=Australia/Sydney:20220906T203000
DTSTAMP:20260420T040126
CREATED:20220822T020111Z
LAST-MODIFIED:20220822T020111Z
UID:9838-1662492600-1662496200@liverpoolcemetery.com.au
SUMMARY:Mention My Name Prayer Service - Liverpool
DESCRIPTION:Please join us for this special Prayer Service to remember those who have lost their lives through suicide and pray\nfor their grieving family\, friends\, caregivers and first responders. \n7.30pm\, Tuesday 6th September 2022\nAll Saints Catholic Church\n48 George Street\, Liverpool \nFor further information please contact the Grief Care Team on\n02 9646 6908 or email team@griefcare.com.au
URL:https://liverpoolcemetery.com.au/event/mention-my-name-prayer-service-liverpool/
LOCATION:All Saints Parish Liverpool\, 48 George Street\, Liverpool\, NSW\, 2170\, Australia
ATTACH;FMTTYPE=image/jpeg:https://liverpoolcemetery.com.au/wp-content/uploads/CCC-MMN-fb-e1661133452290.jpg
END:VEVENT
BEGIN:VEVENT
DTSTART;TZID=Australia/Sydney:20220906T110000
DTEND;TZID=Australia/Sydney:20220906T120000
DTSTAMP:20260420T040126
CREATED:20220721T003916Z
LAST-MODIFIED:20220721T004003Z
UID:9756-1662462000-1662465600@liverpoolcemetery.com.au
SUMMARY:Bereaved Parents Group
DESCRIPTION:Bereaved Parents Group \nA space for your grief and a chance to connect with other bereaved parents.\nMorning tea is provided. \nWhen: 6th September 2022\nWhere: To Be confirmed each Month\nTime: 11am-12 pm \nPlease RSVP prior to:\nCarmela Di Pietro: Phone: 0498 271 649 or Email:  carmela@catholiccemeteries.com.au
URL:https://liverpoolcemetery.com.au/event/bereaved-parents-group-3/
LOCATION:NSW
ATTACH;FMTTYPE=image/jpeg:https://liverpoolcemetery.com.au/wp-content/uploads/GC-BereavedParent-FB-0522-e1658362474872.jpg
END:VEVENT
BEGIN:VEVENT
DTSTART;TZID=Australia/Sydney:20220903T170000
DTEND;TZID=Australia/Sydney:20220903T180000
DTSTAMP:20260420T040126
CREATED:20220726T235709Z
LAST-MODIFIED:20220726T235820Z
UID:9781-1662224400-1662228000@liverpoolcemetery.com.au
SUMMARY:Father's Day Mass at Our Lady of Victories Church
DESCRIPTION:Please join us for Father’s Day Mass at Our Lady of Victories Church\, Horsley Park\n\n\n\n\nFather’s Day is a special day for many to reflect and show their love and appreciation to fathers\, grandfathers and father figures who may no longer be with us. \n\n\n\n\n\n\nPlease join us for our special mass on Saturday 3 September 2022 at 5pm at Our Lady of Victories Church\, Horsley Park.
URL:https://liverpoolcemetery.com.au/event/fathers-day-mass-at-our-lady-of-victories-church/
LOCATION:NSW
ATTACH;FMTTYPE=image/jpeg:https://liverpoolcemetery.com.au/wp-content/uploads/fathers-day-2022-e1658879225762.jpg
END:VEVENT
BEGIN:VEVENT
DTSTART;TZID=Australia/Sydney:20220903T120000
DTEND;TZID=Australia/Sydney:20220903T130000
DTSTAMP:20260420T040126
CREATED:20220726T235008Z
LAST-MODIFIED:20220905T052806Z
UID:9778-1662206400-1662210000@liverpoolcemetery.com.au
SUMMARY:Father's Day Mass Rookwood Catholic Cemetery
DESCRIPTION:Please join us for Father’s Day Mass at Rookwood Catholic Cemetery\n\n\n\nFather’s Day is a special day for many to reflect and show their love and appreciation to fathers\, grandfathers and father figures who may no longer be with us. \nPlease join us for our special mass: \nSaturday 3 September 2022 at 12pm at the Mary\, Mother of Mercy Chapel at Rookwood Catholic Cemetery. \nThe mass will be followed by morning tea in the adjoining lounge. \nView the Father’s Mass
URL:https://liverpoolcemetery.com.au/event/fathers-day-mass-rookwood-catholic-cemetery/
LOCATION:Rookwood Catholic Cemetery\, Barnet Avenue\, Rookwood\, NSW\, 2141\, Australia
ATTACH;FMTTYPE=image/jpeg:https://liverpoolcemetery.com.au/wp-content/uploads/fathers-day-2022-e1658879225762.jpg
END:VEVENT
BEGIN:VEVENT
DTSTART;TZID=Australia/Sydney:20220901T193000
DTEND;TZID=Australia/Sydney:20220901T203000
DTSTAMP:20260420T040126
CREATED:20220721T003552Z
LAST-MODIFIED:20231109T011737Z
UID:9754-1662060600-1662064200@liverpoolcemetery.com.au
SUMMARY:Men’s Grief Gathering
DESCRIPTION:Men’s Grief Gathering \nWe are inviting men who are grieving\, or experienced loss\, to join us in a safe and confidential online gathering. It’s an opportunity to share experiences or just ‘be” and listen. \nNo judgements. No fixing. Just listening and walking alongside each other in grief. \nOur next meeting will be held at 7.30 pm on\nThursday 1 September 2022 via Zoom \nJoin Zoom Meeting \nMeeting ID: 834 1432 1878\nPasscode: 446258 \nFor further details\, please call Terry from the Grief Care Team on 9646 6908 during business hours or email tgrady@catholiccemeteries.com.au or search ‘Men’s Grief Gathering’ on Facebook
URL:https://liverpoolcemetery.com.au/event/mens-grief-gathering-2/
LOCATION:NSW
ATTACH;FMTTYPE=image/jpeg:https://liverpoolcemetery.com.au/wp-content/uploads/web-mens-gathering-e1658363479898.jpg
END:VEVENT
BEGIN:VEVENT
DTSTART;TZID=Australia/Sydney:20220831T090000
DTEND;TZID=Australia/Sydney:20220831T093000
DTSTAMP:20260420T040126
CREATED:20220721T002738Z
LAST-MODIFIED:20220721T002738Z
UID:9749-1661936400-1661938200@liverpoolcemetery.com.au
SUMMARY:Press Pause Online Meditation
DESCRIPTION:Press Pause Online Meditation\n\n\n\nJoin us weekly and gift yourself 30 minutes to Press Pause…and rest a while.\n\nWhen: Weekly on Wednesdays\nTime: 9am – 9.30am \nJoin us on Zoom
URL:https://liverpoolcemetery.com.au/event/press-pause-online-meditation-4/
LOCATION:NSW
ATTACH;FMTTYPE=image/jpeg:https://liverpoolcemetery.com.au/wp-content/uploads/Press-Pause_FB_0721-e1658357613607.jpg
END:VEVENT
BEGIN:VEVENT
DTSTART;TZID=Australia/Sydney:20220826T113000
DTEND;TZID=Australia/Sydney:20220826T123000
DTSTAMP:20260420T040126
CREATED:20220624T230452Z
LAST-MODIFIED:20231031T054058Z
UID:9707-1661513400-1661517000@liverpoolcemetery.com.au
SUMMARY:Compassionate Companions
DESCRIPTION:A safe place where stories are shared and memories are honoured. \nWhen: Fortnightly on Fridays\nTime: 11.30am – 12.30pm \nJoin us on Zoom \n\nMeeting ID: 969 4042 6907\n\nPasscode: 437686
URL:https://liverpoolcemetery.com.au/event/compassionate-companions-11/
LOCATION:NSW
ATTACH;FMTTYPE=image/jpeg:https://liverpoolcemetery.com.au/wp-content/uploads/GC-CompCom-Banner1-web.jpg
END:VEVENT
BEGIN:VEVENT
DTSTART;TZID=Australia/Sydney:20220824T090000
DTEND;TZID=Australia/Sydney:20220824T093000
DTSTAMP:20260420T040126
CREATED:20220721T002521Z
LAST-MODIFIED:20231031T060113Z
UID:9747-1661331600-1661333400@liverpoolcemetery.com.au
SUMMARY:Press Pause Online Meditation
DESCRIPTION:Press Pause Online Meditation \nJoin us weekly and gift yourself 30 minutes to Press Pause…and rest a while.\n\nWhen: Weekly on Wednesdays\nTime: 9am – 9.30am \nJoin us on Zoom
URL:https://liverpoolcemetery.com.au/event/press-pause-online-meditation-3/
LOCATION:NSW
ATTACH;FMTTYPE=image/jpeg:https://liverpoolcemetery.com.au/wp-content/uploads/Press-Pause_FB_0721-e1658357613607.jpg
END:VEVENT
BEGIN:VEVENT
DTSTART;TZID=Australia/Sydney:20220812T113000
DTEND;TZID=Australia/Sydney:20220812T123000
DTSTAMP:20260420T040126
CREATED:20220624T230006Z
LAST-MODIFIED:20231031T054046Z
UID:9705-1660303800-1660307400@liverpoolcemetery.com.au
SUMMARY:Compassionate Companions
DESCRIPTION:A safe place where stories are shared and memories are honoured. \nWhen: Fortnightly on Fridays\nTime: 11.30am – 12.30pm \nJoin us on Zoom \n\nMeeting ID: 969 4042 6907\n\nPasscode: 437686
URL:https://liverpoolcemetery.com.au/event/compassionate-companions-10/
LOCATION:NSW
ATTACH;FMTTYPE=image/jpeg:https://liverpoolcemetery.com.au/wp-content/uploads/GC-CompCom-Banner1-web.jpg
END:VEVENT
BEGIN:VEVENT
DTSTART;TZID=Australia/Sydney:20220810T103000
DTEND;TZID=Australia/Sydney:20220810T113000
DTSTAMP:20260420T040126
CREATED:20220621T224759Z
LAST-MODIFIED:20220621T225231Z
UID:9678-1660127400-1660131000@liverpoolcemetery.com.au
SUMMARY:August Monthly Mass – Liverpool
DESCRIPTION:Please join us for our August Monthly Mass\nWhen: 10.30am\, Wednesday 10th August 2022\nWhere: All Saints Parish\, Liverpool \nPresided By: Fr Michael Smith
URL:https://liverpoolcemetery.com.au/event/july-monthly-mass-liverpool-2/
LOCATION:All Saints Parish Liverpool\, 48 George Street\, Liverpool\, NSW\, 2170\, Australia
ATTACH;FMTTYPE=image/jpeg:https://liverpoolcemetery.com.au/wp-content/uploads/white-lily-on-bench-at-funeral.jpg
END:VEVENT
BEGIN:VEVENT
DTSTART;TZID=Australia/Sydney:20220810T090000
DTEND;TZID=Australia/Sydney:20220810T093000
DTSTAMP:20260420T040126
CREATED:20220721T001954Z
LAST-MODIFIED:20231031T060138Z
UID:9745-1660122000-1660123800@liverpoolcemetery.com.au
SUMMARY:Press Pause Online Meditation
DESCRIPTION:Press Pause Online Meditation\n\n\n\nJoin us weekly and gift yourself 30 minutes to Press Pause…and rest a while.\n\nWhen: Weekly on Wednesdays\nTime: 9am – 9.30am \nJoin us on Zoom
URL:https://liverpoolcemetery.com.au/event/press-pause-online-meditation-2/
LOCATION:NSW
ATTACH;FMTTYPE=image/jpeg:https://liverpoolcemetery.com.au/wp-content/uploads/Press-Pause_FB_0721-e1658357613607.jpg
END:VEVENT
BEGIN:VEVENT
DTSTART;TZID=Australia/Sydney:20220804T193000
DTEND;TZID=Australia/Sydney:20220804T203000
DTSTAMP:20260420T040126
CREATED:20220721T003137Z
LAST-MODIFIED:20220721T003137Z
UID:9752-1659641400-1659645000@liverpoolcemetery.com.au
SUMMARY:Men’s Grief Gathering
DESCRIPTION:Men’s Grief Gathering \nWe are inviting men who are grieving\, or experienced loss\, to join us in a safe and confidential online gathering. It’s an opportunity to share experiences or just ‘be” and listen. \nNo judgements. No fixing. Just listening and walking alongside each other in grief. \nOur next meeting will be held at 7.30 pm on\nThursday 4 August 2022 via Zoom \nJoin Zoom Meeting \nMeeting ID: 834 1432 1878\nPasscode: 446258 \nFor further details\, please call Terry from the Grief Care Team on 9646 6908 during business hours or email tgrady@catholiccemeteries.com.au or search ‘Men’s Grief Gathering’ on Facebook
URL:https://liverpoolcemetery.com.au/event/mens-grief-gathering/
LOCATION:NSW
ATTACH;FMTTYPE=image/jpeg:https://liverpoolcemetery.com.au/wp-content/uploads/web-mens-gathering-e1658363479898.jpg
END:VEVENT
BEGIN:VEVENT
DTSTART;TZID=Australia/Sydney:20220802T110000
DTEND;TZID=Australia/Sydney:20220802T120000
DTSTAMP:20260420T040126
CREATED:20220721T001616Z
LAST-MODIFIED:20220721T001616Z
UID:9742-1659438000-1659441600@liverpoolcemetery.com.au
SUMMARY:Bereaved Parents Group
DESCRIPTION:Bereaved Parents Group \nA space for your grief and a chance to connect with other bereaved parents.\nMorning tea is provided. \nWhen: 2nd August 2022\nWhere: To Be confirmed each Month\nTime: 11am-12 pm \nPlease RSVP prior to:\nCarmela Di Pietro: Phone: 0498 271 649 or Email:  carmela@catholiccemeteries.com.au
URL:https://liverpoolcemetery.com.au/event/bereaved-parents-group-2/
LOCATION:NSW
ATTACH;FMTTYPE=image/jpeg:https://liverpoolcemetery.com.au/wp-content/uploads/GC-BereavedParent-FB-0522-e1658362474872.jpg
END:VEVENT
BEGIN:VEVENT
DTSTART;TZID=Australia/Sydney:20220802T110000
DTEND;TZID=Australia/Sydney:20220802T120000
DTSTAMP:20260420T040126
CREATED:20220720T225942Z
LAST-MODIFIED:20220720T225942Z
UID:9739-1659438000-1659441600@liverpoolcemetery.com.au
SUMMARY:Bringing them home\, Interment of the Homeless
DESCRIPTION:Bringing them home \nPlease join us for the this special service for the interment of the homeless \nWhen: 11am\, 2nd August\, 2022\nWhere: Charles O’Neill Walkway Rookwood Catholic Cemetery \nFollowed by Morning Tea \nRSVP BY: 26th July to care@griefcare.com.au
URL:https://liverpoolcemetery.com.au/event/bringing-them-home-interment-of-the-homeless/
LOCATION:Rookwood Catholic Cemetery\, Barnet Avenue\, Rookwood\, NSW\, 2141\, Australia
ATTACH;FMTTYPE=image/jpeg:https://liverpoolcemetery.com.au/wp-content/uploads/CCC-BringHome-fb-e1658357897358.jpg
END:VEVENT
BEGIN:VEVENT
DTSTART;TZID=Australia/Sydney:20220729T113000
DTEND;TZID=Australia/Sydney:20220729T123000
DTSTAMP:20260420T040126
CREATED:20220515T014724Z
LAST-MODIFIED:20220706T015354Z
UID:9616-1659094200-1659097800@liverpoolcemetery.com.au
SUMMARY:Compassionate Companions
DESCRIPTION:A safe place where stories are shared and memories are honoured. \nWhen: Fortnightly on Fridays\nTime: 11.30am – 12.30pm \nJoin us on Zoom \n\nMeeting ID: 969 4042 6907\n\nPasscode: 437686
URL:https://liverpoolcemetery.com.au/event/compassionate-companions-9/
LOCATION:NSW
ATTACH;FMTTYPE=image/jpeg:https://liverpoolcemetery.com.au/wp-content/uploads/GC-CompCom-Banner1-fb-1.jpg
END:VEVENT
BEGIN:VEVENT
DTSTART;TZID=Australia/Sydney:20220727T090000
DTEND;TZID=Australia/Sydney:20220727T093000
DTSTAMP:20260420T040126
CREATED:20220720T225132Z
LAST-MODIFIED:20220720T225355Z
UID:9737-1658912400-1658914200@liverpoolcemetery.com.au
SUMMARY:Press Pause Online Meditation
DESCRIPTION:Press Pause Online Meditation \nJoin us weekly and gift yourself 30 minutes to Press Pause…and rest a while.\n\nWhen: Weekly on Wednesdays\nTime: 9am – 9.30am \nJoin us on Zoom
URL:https://liverpoolcemetery.com.au/event/press-pause-online-meditation/
LOCATION:NSW
ATTACH;FMTTYPE=image/jpeg:https://liverpoolcemetery.com.au/wp-content/uploads/Press-Pause_FB_0721-e1658357613607.jpg
END:VEVENT
BEGIN:VEVENT
DTSTART;TZID=Australia/Sydney:20220715T113000
DTEND;TZID=Australia/Sydney:20220715T123000
DTSTAMP:20260420T040126
CREATED:20220706T012937Z
LAST-MODIFIED:20231031T054031Z
UID:9719-1657884600-1657888200@liverpoolcemetery.com.au
SUMMARY:Compassionate Companions
DESCRIPTION:A safe place where stories are shared and memories are honoured. \nWhen: Fortnightly on Fridays\nTime: 11.30am – 12.30pm \nJoin us on Zoom \n\nMeeting ID: 969 4042 6907\n\nPasscode: 437686
URL:https://liverpoolcemetery.com.au/event/compassionate-companions-12/
LOCATION:NSW
ATTACH;FMTTYPE=image/jpeg:https://liverpoolcemetery.com.au/wp-content/uploads/GC-CompCom-Banner1-web.jpg
END:VEVENT
BEGIN:VEVENT
DTSTART;TZID=Australia/Sydney:20220713T103000
DTEND;TZID=Australia/Sydney:20220713T113000
DTSTAMP:20260420T040126
CREATED:20220427T212956Z
LAST-MODIFIED:20220427T213112Z
UID:9564-1657708200-1657711800@liverpoolcemetery.com.au
SUMMARY:July Monthly Mass - Liverpool
DESCRIPTION:Please join us for our July Monthly Mass\nWhen: 10.30am\, Wednesday 13th July 2022\nWhere: All Saints Parish\, Liverpool \nPresided By: Fr Michael Smith
URL:https://liverpoolcemetery.com.au/event/july-monthly-mass-liverpool/
LOCATION:All Saints Parish Liverpool\, 48 George Street\, Liverpool\, NSW\, 2170\, Australia
ATTACH;FMTTYPE=image/jpeg:https://liverpoolcemetery.com.au/wp-content/uploads/liverpool-garden-seat.jpg
END:VEVENT
BEGIN:VEVENT
DTSTART;TZID=Australia/Sydney:20220712T090000
DTEND;TZID=Australia/Sydney:20220712T160000
DTSTAMP:20260420T040126
CREATED:20220608T063747Z
LAST-MODIFIED:20220610T020100Z
UID:9651-1657616400-1657641600@liverpoolcemetery.com.au
SUMMARY:Catholic Funeral Formation Program
DESCRIPTION:New Pastoral Formation Day: The Christian’s Final Journey \nThis pastoral formation day is designed especially for Parish Pastoral Care and Frontline Staff (includes Pastoral Associates\, Parish Secretaries\, Family Faith Educators)\, Teachers\, APRE’s and School Staff\, Catholic Cemeteries and Crematoria Staff*\, Catholic Care Staff\, Cemetery Managers\, and anyone interested in learning more about how Catholics prepare and celebrate funerals.  This formative program will investigate Catholic practices around burial and cremation\, how to support those who grieve\, and it will include the opportunity to prepare a Catholic funeral for yourself or another person. \nSession 1: Catholic Beliefs About Death and Dying \nSession 2: Rites for the Journey to New Life \nSession 3: The Order of Christian Funerals \nSession 4: Planning Your Funeral and Care of the Grieving \nDownload the Brochure \nDate: July 12\, 2022 \nTime: 9am-4pm (registration from 8.30am) \nVenue: All Saints Parish Hall\, 48 George Street\, Liverpool NSW 2170 \nRegistration Fee: $60 per person (includes tea/coffee\, lunch and a workbook) \n\nRegistration is essential by: July 1\, 2022\n\nEnquiries: CentreforLiturgy@acu.edu.au or 02 9701 4751 \nRegister Now
URL:https://liverpoolcemetery.com.au/event/catholic-funeral-formation-program/
LOCATION:All Saints Parish\, 48 George Street\, Liverpool\, NSW\, 2170\, Australia
ATTACH;FMTTYPE=image/jpeg:https://liverpoolcemetery.com.au/wp-content/uploads/funeraldirector_01.jpg
END:VEVENT
BEGIN:VEVENT
DTSTART;TZID=Australia/Sydney:20220621T180000
DTEND;TZID=Australia/Sydney:20220621T190000
DTSTAMP:20260420T040126
CREATED:20220608T204434Z
LAST-MODIFIED:20220617T014644Z
UID:9656-1655834400-1655838000@liverpoolcemetery.com.au
SUMMARY:Sydney Homeless Memorial Service
DESCRIPTION:Please join us for this special Service commemorating all individuals who have died while experiencing homelessness in the past year. \nWhen: Tuesday 21 June 2022 at 6pm \nWhere: Cathedral Square\, College St Sydney \nAll Welcome \nVIEW THE ORDER OF SERVICE BOOKLET
URL:https://liverpoolcemetery.com.au/event/sydney-homeless-memorial-service/
LOCATION:NSW
ATTACH;FMTTYPE=image/jpeg:https://liverpoolcemetery.com.au/wp-content/uploads/sydney-harbour.jpg
END:VEVENT
BEGIN:VEVENT
DTSTART;TZID=Australia/Sydney:20220621T110000
DTEND;TZID=Australia/Sydney:20220621T120000
DTSTAMP:20260420T040126
CREATED:20220515T013642Z
LAST-MODIFIED:20231031T053932Z
UID:9606-1655809200-1655812800@liverpoolcemetery.com.au
SUMMARY:Bereaved Parents Group
DESCRIPTION:Bereaved Parents Group \nA space for your grief and a chance to connect with other bereaved parents.\nMorning tea is provided. \nWhen: 21st June 2022\nWhere: Strathfield Golf Club\nTime: 11am-12 pm \nPlease RSVP prior to:\nCarmela Di Pietro at  carmela@catholiccemeteries.com.au
URL:https://liverpoolcemetery.com.au/event/bereaved-parents-group/
LOCATION:NSW
ATTACH;FMTTYPE=image/jpeg:https://liverpoolcemetery.com.au/wp-content/uploads/2019/07/catholic-cemeteries-slide-9-608x300.jpg
END:VEVENT
BEGIN:VEVENT
DTSTART;TZID=Australia/Sydney:20220610T113000
DTEND;TZID=Australia/Sydney:20220610T123000
DTSTAMP:20260420T040126
CREATED:20220515T014529Z
LAST-MODIFIED:20220515T014529Z
UID:9614-1654860600-1654864200@liverpoolcemetery.com.au
SUMMARY:Compassionate Companions
DESCRIPTION:Compassionate Companions \nA safe place where stories are shared and memories are honoured. \nJoin us on Zoom\nWhen: Fortnightly on Fridays\nTime: 11.30am – 12.30pm
URL:https://liverpoolcemetery.com.au/event/compassionate-companions-8/
LOCATION:NSW
ATTACH;FMTTYPE=image/jpeg:https://liverpoolcemetery.com.au/wp-content/uploads/GC-CompCom-Banner1-fb-1.jpg
END:VEVENT
BEGIN:VEVENT
DTSTART;TZID=Australia/Sydney:20220608T103000
DTEND;TZID=Australia/Sydney:20220608T113000
DTSTAMP:20260420T040126
CREATED:20220427T100745Z
LAST-MODIFIED:20220427T100745Z
UID:9562-1654684200-1654687800@liverpoolcemetery.com.au
SUMMARY:June Monthly Mass - Liverpool
DESCRIPTION:Please join us for our June Monthly Mass\nWhen: 10.30am\, Wednesday 8th June 2022\nWhere: All Saints Parish\, Liverpool \nPresided By: Fr Michael Smith
URL:https://liverpoolcemetery.com.au/event/june-monthly-mass-liverpool/
LOCATION:All Saints Parish Liverpool\, 48 George Street\, Liverpool\, NSW\, 2170\, Australia
ATTACH;FMTTYPE=image/jpeg:https://liverpoolcemetery.com.au/wp-content/uploads/Statue-Liverpool-1.jpg
END:VEVENT
BEGIN:VEVENT
DTSTART;TZID=Australia/Sydney:20220527T113000
DTEND;TZID=Australia/Sydney:20220527T123000
DTSTAMP:20260420T040126
CREATED:20220512T235008Z
LAST-MODIFIED:20220512T235008Z
UID:9602-1653651000-1653654600@liverpoolcemetery.com.au
SUMMARY:Compassionate Companions
DESCRIPTION:Compassionate Companions \nA safe place where stories are shared and memories are honoured. \nJoin us on Zoom\nWhen: Fortnightly on Fridays\nTime: 11.30am – 12.30pm
URL:https://liverpoolcemetery.com.au/event/compassionate-companions-7/
LOCATION:NSW
ATTACH;FMTTYPE=image/jpeg:https://liverpoolcemetery.com.au/wp-content/uploads/GC-CompCom-Banner1-fb-1.jpg
END:VEVENT
BEGIN:VEVENT
DTSTART;TZID=Australia/Sydney:20220517T110000
DTEND;TZID=Australia/Sydney:20220517T120000
DTSTAMP:20260420T040126
CREATED:20220515T014040Z
LAST-MODIFIED:20231031T053913Z
UID:9609-1652785200-1652788800@liverpoolcemetery.com.au
SUMMARY:Bereaved Parents Group
DESCRIPTION:Bereaved Parents Group \nA space for your grief and a chance to connect with other bereaved parents.\nMorning tea is provided. \nWhen: 17th May 2022\nWhere: Strathfield Golf Club\nTime: 11am-12 pm \nPlease RSVP prior to:\nCarmela Di Pietro at  carmela@catholiccemeteries.com.au
URL:https://liverpoolcemetery.com.au/event/bereaved-parents-group-11/
LOCATION:NSW
ATTACH;FMTTYPE=image/jpeg:https://liverpoolcemetery.com.au/wp-content/uploads/2019/07/catholic-cemeteries-slide-9.jpg
END:VEVENT
BEGIN:VEVENT
DTSTART;TZID=Australia/Sydney:20220513T113000
DTEND;TZID=Australia/Sydney:20220513T123000
DTSTAMP:20260420T040126
CREATED:20220512T234633Z
LAST-MODIFIED:20220512T234633Z
UID:9598-1652441400-1652445000@liverpoolcemetery.com.au
SUMMARY:Compassionate Companions
DESCRIPTION:Compassionate Companions \nA safe place where stories are shared and memories are honoured. \nJoin us on Zoom\nWhen: Fortnightly on Fridays\nTime: 11.30am – 12.30pm
URL:https://liverpoolcemetery.com.au/event/compassionate-companions-3/
LOCATION:NSW
ATTACH;FMTTYPE=image/jpeg:https://liverpoolcemetery.com.au/wp-content/uploads/GC-CompCom-Banner1-fb-1.jpg
END:VEVENT
BEGIN:VEVENT
DTSTART;TZID=Australia/Sydney:20220512T100000
DTEND;TZID=Australia/Sydney:20220512T113000
DTSTAMP:20260420T040126
CREATED:20220306T230536Z
LAST-MODIFIED:20220306T230545Z
UID:9290-1652349600-1652355000@liverpoolcemetery.com.au
SUMMARY:Walk the Stations of the Light at Rookwood
DESCRIPTION:Walk the Stations of the Light at Rookwood Catholic Cemetery\nPlease join us as we walk the Stations of the Light at the peaceful Waterway Memorial Gardens. \nWhen: 12 May at 10am\nWaterway Memorial Gardens\nTherry St\nRookwood Catholic Cemetery \nPlease RSVP: sinead@catholiccemeteries.com.au
URL:https://liverpoolcemetery.com.au/event/walk-the-stations-of-the-light-at-rookwood/
LOCATION:Rookwood Catholic Cemetery\, Barnet Avenue\, Rookwood\, NSW\, 2141\, Australia
ATTACH;FMTTYPE=image/jpeg:https://liverpoolcemetery.com.au/wp-content/uploads/GC-StationsCross-fb.jpg
END:VEVENT
BEGIN:VEVENT
DTSTART;TZID=Australia/Sydney:20220511T103000
DTEND;TZID=Australia/Sydney:20220511T113000
DTSTAMP:20260420T040126
CREATED:20220427T100410Z
LAST-MODIFIED:20220427T100410Z
UID:9560-1652265000-1652268600@liverpoolcemetery.com.au
SUMMARY:May Monthly Mass - Liverpool
DESCRIPTION:Please join us for our May Monthly Mass\nWhen: 10.30am\, Wednesday 11th May 2022\nWhere: All Saints Parish\, Liverpool \nPresided By: Fr Michael Smith
URL:https://liverpoolcemetery.com.au/event/may-monthly-mass-liverpool/
LOCATION:All Saints Parish\, 48 George Street\, Liverpool\, NSW\, 2170\, Australia
ATTACH;FMTTYPE=image/jpeg:https://liverpoolcemetery.com.au/wp-content/uploads/white-lily-on-bench-at-funeral.jpg
END:VEVENT
END:VCALENDAR