BEGIN:VCALENDAR
VERSION:2.0
PRODID:-//Liverpool Cemetery - ECPv6.15.11//NONSGML v1.0//EN
CALSCALE:GREGORIAN
METHOD:PUBLISH
X-WR-CALNAME:Liverpool Cemetery
X-ORIGINAL-URL:https://liverpoolcemetery.com.au
X-WR-CALDESC:Events for Liverpool Cemetery
REFRESH-INTERVAL;VALUE=DURATION:PT1H
X-Robots-Tag:noindex
X-PUBLISHED-TTL:PT1H
BEGIN:VTIMEZONE
TZID:Australia/Sydney
BEGIN:STANDARD
TZOFFSETFROM:+1100
TZOFFSETTO:+1000
TZNAME:AEST
DTSTART:20210403T160000
END:STANDARD
BEGIN:DAYLIGHT
TZOFFSETFROM:+1000
TZOFFSETTO:+1100
TZNAME:AEDT
DTSTART:20211002T160000
END:DAYLIGHT
BEGIN:STANDARD
TZOFFSETFROM:+1100
TZOFFSETTO:+1000
TZNAME:AEST
DTSTART:20220402T160000
END:STANDARD
BEGIN:DAYLIGHT
TZOFFSETFROM:+1000
TZOFFSETTO:+1100
TZNAME:AEDT
DTSTART:20221001T160000
END:DAYLIGHT
BEGIN:STANDARD
TZOFFSETFROM:+1100
TZOFFSETTO:+1000
TZNAME:AEST
DTSTART:20230401T160000
END:STANDARD
BEGIN:DAYLIGHT
TZOFFSETFROM:+1000
TZOFFSETTO:+1100
TZNAME:AEDT
DTSTART:20230930T160000
END:DAYLIGHT
BEGIN:STANDARD
TZOFFSETFROM:+1100
TZOFFSETTO:+1000
TZNAME:AEST
DTSTART:20240406T160000
END:STANDARD
BEGIN:DAYLIGHT
TZOFFSETFROM:+1000
TZOFFSETTO:+1100
TZNAME:AEDT
DTSTART:20241005T160000
END:DAYLIGHT
END:VTIMEZONE
BEGIN:VEVENT
DTSTART;TZID=Australia/Sydney:20230216T103000
DTEND;TZID=Australia/Sydney:20230216T113000
DTSTAMP:20260420T022447
CREATED:20221229T205441Z
LAST-MODIFIED:20221229T205441Z
UID:10143-1676543400-1676547000@liverpoolcemetery.com.au
SUMMARY:Kemps Creek Memorial Park Monthly Mass
DESCRIPTION:Please join us for our Monthly Mass every 3rd Thursday of every month\nTime: 10.30am\nWhere: Our Lady of Victories Catholic Parish\n1788 The Horsley Drive\, Horsley Park 2175 \n– Hospitality provided after mass for community gathering\n– Onsite parking available \nGrief Care team members are available for pastoral support on all masses.\nP: 02 9646 6908 E: team@griefcare.com.au
URL:https://liverpoolcemetery.com.au/event/kemps-creek-memorial-park-monthly-mass-2/
LOCATION:Our Ladies of Victories Parish\, 1788 The Horsley Drive\, Horsley Park\, NSW\, 2175\, Australia
ATTACH;FMTTYPE=image/jpeg:https://liverpoolcemetery.com.au/wp-content/uploads/Floral-4-Events.jpg
END:VEVENT
BEGIN:VEVENT
DTSTART;TZID=Australia/Sydney:20230208T103000
DTEND;TZID=Australia/Sydney:20230208T113000
DTSTAMP:20260420T022447
CREATED:20221229T205055Z
LAST-MODIFIED:20221229T205055Z
UID:10141-1675852200-1675855800@liverpoolcemetery.com.au
SUMMARY:Monthly Mass Liverpool Cemetery
DESCRIPTION:Please join us for our Monthly Mass every 2nd Wednesday of every month \nTime: 10.30am \nAll Saints Catholic Parish\n48 George Street\, Liverpool 2170\n(parking entrance via Elizabeth Street) \nPresided By: Fr Michael Smith \nGrief Care team members are available for pastoral support on all masses.\nP: 02 9646 6908 E: team@griefcare.com.au
URL:https://liverpoolcemetery.com.au/event/monthly-mass-liverpool-cemetery-5/
LOCATION:All Saints Parish Liverpool\, 48 George Street\, Liverpool\, NSW\, 2170\, Australia
ATTACH;FMTTYPE=image/jpeg:https://liverpoolcemetery.com.au/wp-content/uploads/Floral-5-Events.jpg
END:VEVENT
BEGIN:VEVENT
DTSTART;TZID=Australia/Sydney:20230207T094500
DTEND;TZID=Australia/Sydney:20230207T104500
DTSTAMP:20260420T022447
CREATED:20221229T204802Z
LAST-MODIFIED:20221229T204802Z
UID:10139-1675763100-1675766700@liverpoolcemetery.com.au
SUMMARY:Monthly Mass Rookwood Catholic Cemetery
DESCRIPTION:Please join us for our Monthly Mass every 1st Tuesday of every month \nTime: 9.45am \nWhere: The Mausoleum of the Resurrection Chapel\, Rookwood Catholic Cemetery \n– Hospitality provided after mass\n– Onsite parking available \nPresided By: Fr Peter Guy \nGrief Care team members are available for pastoral support on all masses.\nP: 02 9646 6908 E:team@griefcare.com.au
URL:https://liverpoolcemetery.com.au/event/monthly-mass-rookwood-catholic-cemetery-2/
LOCATION:Rookwood Catholic Cemetery\, Barnet Avenue\, Rookwood\, NSW\, 2141\, Australia
ATTACH;FMTTYPE=image/jpeg:https://liverpoolcemetery.com.au/wp-content/uploads/Statue-Liverpool-1.jpg
END:VEVENT
BEGIN:VEVENT
DTSTART;TZID=Australia/Sydney:20230119T103000
DTEND;TZID=Australia/Sydney:20230119T113000
DTSTAMP:20260420T022447
CREATED:20221229T204303Z
LAST-MODIFIED:20221229T204348Z
UID:10135-1674124200-1674127800@liverpoolcemetery.com.au
SUMMARY:Kemps Creek Memorial Park Monthly Mass
DESCRIPTION:Please join us for our Monthly Mass every 3rd Thursday of every month\nTime: 10.30am\nWhere: Our Lady of Victories Catholic Parish\n1788 The Horsley Drive\, Horsley Park 2175 \n– Hospitality provided after mass for community gathering\n– Onsite parking available \nGrief Care team members are available for pastoral support on all masses.\nP: 02 9646 6908 E: team@griefcare.com.au
URL:https://liverpoolcemetery.com.au/event/kemps-creek-memorial-park-monthly-mass/
LOCATION:Our Ladies of Victories Parish\, 1788 The Horsley Drive\, Horsley Park\, NSW\, 2175\, Australia
ATTACH;FMTTYPE=image/jpeg:https://liverpoolcemetery.com.au/wp-content/uploads/Floral-2-Events.jpg
END:VEVENT
BEGIN:VEVENT
DTSTART;TZID=Australia/Sydney:20230111T103000
DTEND;TZID=Australia/Sydney:20230111T113000
DTSTAMP:20260420T022447
CREATED:20221229T203739Z
LAST-MODIFIED:20221229T203739Z
UID:10133-1673433000-1673436600@liverpoolcemetery.com.au
SUMMARY:Monthly Mass Liverpool Cemetery
DESCRIPTION:Please join us for our Monthly Mass every 2nd Wednesday of every month \nTime: 10.30am \nAll Saints Catholic Parish\n48 George Street\, Liverpool 2170\n(parking entrance via Elizabeth Street) \nPresided By: Fr Michael Smith \nGrief Care team members are available for pastoral support on all masses.\nP: 02 9646 6908 E: team@griefcare.com.au
URL:https://liverpoolcemetery.com.au/event/monthly-mass-liverpool-cemetery-4/
LOCATION:All Saints Parish Liverpool\, 48 George Street\, Liverpool\, NSW\, 2170\, Australia
ATTACH;FMTTYPE=image/jpeg:https://liverpoolcemetery.com.au/wp-content/uploads/Floral-7-Events.jpg
END:VEVENT
BEGIN:VEVENT
DTSTART;TZID=Australia/Sydney:20230103T094500
DTEND;TZID=Australia/Sydney:20230103T104500
DTSTAMP:20260420T022447
CREATED:20221229T203428Z
LAST-MODIFIED:20221229T203428Z
UID:10122-1672739100-1672742700@liverpoolcemetery.com.au
SUMMARY:Monthly Mass Rookwood Catholic Cemetery
DESCRIPTION:Please join us for our Monthly Mass every 1st Tuesday of every month \nTime: 9.45am \nWhere: The Mausoleum of the Resurrection Chapel\, Rookwood Catholic Cemetery \n– Hospitality provided after mass\n– Onsite parking available \nPresided By: Fr Peter Guy \nGrief Care team members are available for pastoral support on all masses.\nP: 02 9646 6908 E:team@griefcare.com.au
URL:https://liverpoolcemetery.com.au/event/monthly-mass-rookwood-catholic-cemetery/
LOCATION:Rookwood Catholic Cemetery\, Barnet Avenue\, Rookwood\, NSW\, 2141\, Australia
ATTACH;FMTTYPE=image/jpeg:https://liverpoolcemetery.com.au/wp-content/uploads/Floral-1-Events.jpg
END:VEVENT
BEGIN:VEVENT
DTSTART;TZID=Australia/Sydney:20221218T193000
DTEND;TZID=Australia/Sydney:20221218T203000
DTSTAMP:20260420T022447
CREATED:20221102T080421Z
LAST-MODIFIED:20221215T025742Z
UID:9979-1671391800-1671395400@liverpoolcemetery.com.au
SUMMARY:Christmas Remembrance Service 2022
DESCRIPTION:Catholic Cemeteries + Crematoria warmly invites you and your family to join us for our special Interfaith Christmas Remembrance Service to remember those we have lost in 2022. \nWhen: 7.30pm\, Sunday 18th December\, 2022\nWhere: St Mary’s Cathedral\, Sydney\nPresided by: Most Reverend Terence Brady\nAuxiliary Bishop Emeritus of Sydney \nLive music performances \nAll Welcome \nVIEW THE SERVICE LIVESTREAM \nRSVP NOW
URL:https://liverpoolcemetery.com.au/event/christmas-remembrance-service-2022/
LOCATION:St Mary’s Cathedral\, 2 St Mary's Road\, Sydney\, NSW\, 2000\, Australia
ATTACH;FMTTYPE=image/jpeg:https://liverpoolcemetery.com.au/wp-content/uploads/christmas-carols.jpg
END:VEVENT
BEGIN:VEVENT
DTSTART;TZID=Australia/Sydney:20221208T173000
DTEND;TZID=Australia/Sydney:20221208T193000
DTSTAMP:20260420T022447
CREATED:20221102T060500Z
LAST-MODIFIED:20221102T060500Z
UID:9967-1670520600-1670527800@liverpoolcemetery.com.au
SUMMARY:Men’s Grief Gathering
DESCRIPTION:The next Men’s Grief Gathering will be held on 8 December at\n\nWhere: The Keg and Brew at Surry Hills\,\nTime: 5.30 pm to 7.30 pm.\n\nRSVP: tgrady@catholiccemeteries.com.au\n\nFor more details\nPlease call Terry from the Grief Care Team on 9646 6908 during business hours or email tgrady@catholiccemeteries.com.au\nOR call Chris on 0418 488 791
URL:https://liverpoolcemetery.com.au/event/mens-grief-gathering-3/
ATTACH;FMTTYPE=image/jpeg:https://liverpoolcemetery.com.au/wp-content/uploads/web-mens-gathering-1-e1658363717416.jpg
END:VEVENT
BEGIN:VEVENT
DTSTART;TZID=Australia/Sydney:20221129T180000
DTEND;TZID=Australia/Sydney:20221129T200000
DTSTAMP:20260420T022447
CREATED:20221102T060146Z
LAST-MODIFIED:20221117T214751Z
UID:9963-1669744800-1669752000@liverpoolcemetery.com.au
SUMMARY:TAIZE Prayer Service
DESCRIPTION:Please join us for our TAIZE Prayer Service \nWhen: 6pm\, Tuesday 29th November 2022 \nWhere: St Michael of the Archangel Chapel\, Rookwood Catholic Cemetery \nGrief Care team members are available for pastoral support on all masses.\nP: 02 9646 6908 E: team@griefcare.com.au
URL:https://liverpoolcemetery.com.au/event/taize-prayer-service/
LOCATION:Rookwood Catholic Cemetery\, Barnet Avenue\, Rookwood\, NSW\, 2141\, Australia
ATTACH;FMTTYPE=image/jpeg:https://liverpoolcemetery.com.au/wp-content/uploads/Grief-care-TAIZE-Prayer.jpg
END:VEVENT
BEGIN:VEVENT
DTSTART;TZID=Australia/Sydney:20221123T120000
DTEND;TZID=Australia/Sydney:20221123T140000
DTSTAMP:20260420T022447
CREATED:20221102T055707Z
LAST-MODIFIED:20221103T001941Z
UID:9960-1669204800-1669212000@liverpoolcemetery.com.au
SUMMARY:Deceased Clergy & Religious Mass
DESCRIPTION:We hope you can join us for this special Mass + Luncheon \nWhen: 12 Noon\, Wednesday 23rd November \nWhere: Mary\, Mother of Mercy Chapel\, Rookwood Catholic Cemetery \nRSVP by 11th November: RSVP TODAY
URL:https://liverpoolcemetery.com.au/event/deceased-clergy-religious-mass/
LOCATION:Rookwood Catholic Cemetery\, Barnet Avenue\, Rookwood\, NSW\, 2141\, Australia
ATTACH;FMTTYPE=image/jpeg:https://liverpoolcemetery.com.au/wp-content/uploads/CCC-DPR-fb-e1665979685989.jpg
END:VEVENT
BEGIN:VEVENT
DTSTART;TZID=Australia/Sydney:20221118T113000
DTEND;TZID=Australia/Sydney:20221118T123000
DTSTAMP:20260420T022447
CREATED:20221102T061518Z
LAST-MODIFIED:20221102T061647Z
UID:9971-1668771000-1668774600@liverpoolcemetery.com.au
SUMMARY:Compassionate Companions
DESCRIPTION:A safe place where stories are shared and memories are honoured. \nWhen: Fortnightly on Fridays\nTime: 11.30am – 12.30pm \nJoin us on Zoom \n\nMeeting ID: 969 4042 6907\n\nPasscode: 437686
URL:https://liverpoolcemetery.com.au/event/compassionate-companions-14/
ATTACH;FMTTYPE=image/jpeg:https://liverpoolcemetery.com.au/wp-content/uploads/GC-CompCom-Banner1-fb-e1646446330809.jpg
END:VEVENT
BEGIN:VEVENT
DTSTART;TZID=Australia/Sydney:20221116T183000
DTEND;TZID=Australia/Sydney:20221116T193000
DTSTAMP:20260420T022447
CREATED:20221102T055045Z
LAST-MODIFIED:20221102T055107Z
UID:9957-1668623400-1668627000@liverpoolcemetery.com.au
SUMMARY:Mention My Name\, Memorial Mass – Mortlake
DESCRIPTION:Please join us for this special Memorial Mass \nThis memorial mass will remember those who have lost lives through suicide or self-harm\, and\nwe pray for their grieving families\, friends\, caregivers and first responders. \nWhen:\n6.30pm Wednesday 16th November 2022 \nWhere:\nSt Patrick’s Parish\, Mortlake\n33 Gale Street\, Mortlake \nAll are Welcome\nGrief Care team members are available for pastoral support on all masses.\nP: 02 9646 6908 E:team@griefcare.com.au
URL:https://liverpoolcemetery.com.au/event/mention-my-name-memorial-mass-mortlake/
LOCATION:St Patrick’s Parish\, Mortlake\, 33 Gale Street\, Mortlake\, NSW\, 2137\, Australia
ATTACH;FMTTYPE=image/jpeg:https://liverpoolcemetery.com.au/wp-content/uploads/CCC-MMN-fb-e1661133452290.jpg
END:VEVENT
BEGIN:VEVENT
DTSTART;TZID=Australia/Sydney:20221109T183000
DTEND;TZID=Australia/Sydney:20221109T193000
DTSTAMP:20260420T022447
CREATED:20221102T054645Z
LAST-MODIFIED:20221102T054645Z
UID:9953-1668018600-1668022200@liverpoolcemetery.com.au
SUMMARY:Remembering Our Babies Mass of the Angels
DESCRIPTION:Please join us for this special service for Pregnancy\, Infant & Child Loss Service \nWhen: 6.30pm Wednesday 9th November 2022 \nWhere: St Patrick’s Parish\, Mortlake\n33 Gale Street\, Mortlake \n  \nAll are Welcome\nGrief Care team members are available for pastoral support on all masses.\nP: 02 9646 6908 E:team@griefcare.com.au
URL:https://liverpoolcemetery.com.au/event/remembering-our-babies-mass-of-the-angels/
LOCATION:St Patrick’s Parish\, Mortlake\, 33 Gale Street\, Mortlake\, NSW\, 2137\, Australia
ATTACH;FMTTYPE=image/jpeg:https://liverpoolcemetery.com.au/wp-content/uploads/CCC-ROB-Mortlake-fb-e1667371496389.jpg
END:VEVENT
BEGIN:VEVENT
DTSTART;TZID=Australia/Sydney:20221104T113000
DTEND;TZID=Australia/Sydney:20221104T123000
DTSTAMP:20260420T022447
CREATED:20221102T061200Z
LAST-MODIFIED:20221102T061200Z
UID:9969-1667561400-1667565000@liverpoolcemetery.com.au
SUMMARY:Compassionate Companions
DESCRIPTION:A safe place where stories are shared and memories are honoured. \nWhen: Fortnightly on Fridays\nTime: 11.30am – 12.30pm \nJoin us on Zoom \n\nMeeting ID: 969 4042 6907\n\nPasscode: 437686
URL:https://liverpoolcemetery.com.au/event/compassionate-companions-13/
ATTACH;FMTTYPE=image/jpeg:https://liverpoolcemetery.com.au/wp-content/uploads/GC-CompCom-Banner1-fb-e1646446330809.jpg
END:VEVENT
BEGIN:VEVENT
DTSTART;TZID=Australia/Sydney:20220914T103000
DTEND;TZID=Australia/Sydney:20220914T113000
DTSTAMP:20260420T022447
CREATED:20220911T124424Z
LAST-MODIFIED:20220911T124424Z
UID:9908-1663151400-1663155000@liverpoolcemetery.com.au
SUMMARY:Liverpool Monthly Mass
DESCRIPTION:Please join us for our September Monthly Mass\nWhen: 10.30am \nAll Saints Catholic Parish\n48 George Street\, Liverpool 2170\n(parking entrance via Elizabeth Street) \nPresided By: Fr Michael Smith \nGrief Care team members are available for pastoral support on all masses.\nP: 02 9646 6908 E:team@griefcare.com.au
URL:https://liverpoolcemetery.com.au/event/liverpool-monthly-mass/
LOCATION:All Saints Parish Liverpool\, 48 George Street\, Liverpool\, NSW\, 2170\, Australia
ATTACH;FMTTYPE=image/jpeg:https://liverpoolcemetery.com.au/wp-content/uploads/CCC-home-Slide-3.jpg
END:VEVENT
BEGIN:VEVENT
DTSTART;TZID=Australia/Sydney:20220910T110000
DTEND;TZID=Australia/Sydney:20220910T120000
DTSTAMP:20260420T022447
CREATED:20220822T015624Z
LAST-MODIFIED:20220822T015624Z
UID:9834-1662807600-1662811200@liverpoolcemetery.com.au
SUMMARY:Mention My Name Prayer Service - Ruse
DESCRIPTION:Please join us for this special Prayer Service to remember those who have lost their lives through suicide and pray\nfor their grieving family\, friends\, caregivers and first responders. \n11am\, Saturday 10th September 2022\nSt Thomas More Catholic Church\n43 Acacia Avenue\, Ruse \nFor further information please contact the Grief Care Team on\n02 9646 6908 or email team@griefcare.com.au
URL:https://liverpoolcemetery.com.au/event/prayer-service/
LOCATION:St Thomas Moore Catholic Church\, 43 Acacia Avenue\, Ruse\, NSW\, 2560\, Australia
ATTACH;FMTTYPE=image/jpeg:https://liverpoolcemetery.com.au/wp-content/uploads/CCC-MMN-fb-e1661133452290.jpg
END:VEVENT
BEGIN:VEVENT
DTSTART;TZID=Australia/Sydney:20220909T113000
DTEND;TZID=Australia/Sydney:20220909T123000
DTSTAMP:20260420T022447
CREATED:20220705T075400Z
LAST-MODIFIED:20231031T054110Z
UID:9259-1662723000-1662726600@liverpoolcemetery.com.au
SUMMARY:Compassionate Companions
DESCRIPTION:A safe place where stories are shared and memories are honoured. \nWhen: Fortnightly on Fridays\nTime: 11.30am – 12.30pm \nJoin us on Zoom \n\nMeeting ID: 969 4042 6907\n\nPasscode: 437686
URL:https://liverpoolcemetery.com.au/event/compassionate-companions-6/
ATTACH;FMTTYPE=image/jpeg:https://liverpoolcemetery.com.au/wp-content/uploads/GC-CompCom-Banner1-web.jpg
END:VEVENT
BEGIN:VEVENT
DTSTART;TZID=Australia/Sydney:20220907T190000
DTEND;TZID=Australia/Sydney:20220907T200000
DTSTAMP:20260420T022447
CREATED:20220822T020546Z
LAST-MODIFIED:20220822T020907Z
UID:9840-1662577200-1662580800@liverpoolcemetery.com.au
SUMMARY:Mention My Name Prayer Service - St Mary's Cathedral
DESCRIPTION:Please join us for a Remembrance Service for family\, friends and communities\, grieving the death of someone close\,\nto suicide or misadventure. \n7pm\, Wednesday 7th September 2022\nSt Mary’s Cathedral\, Sydney\n2 St Mary’s Road\, Sydney \nFor further information please contact the Grief Care Team on\n02 9646 6908 or email team@griefcare.com.au
URL:https://liverpoolcemetery.com.au/event/mention-my-name-prayer-service-st-marys-cathedral/
LOCATION:St Mary’s Cathedral\, 2 St Mary's Road\, Sydney\, NSW\, 2000\, Australia
ATTACH;FMTTYPE=image/jpeg:https://liverpoolcemetery.com.au/wp-content/uploads/CCC-MMN-fb-e1661133452290.jpg
END:VEVENT
BEGIN:VEVENT
DTSTART;TZID=Australia/Sydney:20220906T193000
DTEND;TZID=Australia/Sydney:20220906T203000
DTSTAMP:20260420T022447
CREATED:20220822T020111Z
LAST-MODIFIED:20220822T020111Z
UID:9838-1662492600-1662496200@liverpoolcemetery.com.au
SUMMARY:Mention My Name Prayer Service - Liverpool
DESCRIPTION:Please join us for this special Prayer Service to remember those who have lost their lives through suicide and pray\nfor their grieving family\, friends\, caregivers and first responders. \n7.30pm\, Tuesday 6th September 2022\nAll Saints Catholic Church\n48 George Street\, Liverpool \nFor further information please contact the Grief Care Team on\n02 9646 6908 or email team@griefcare.com.au
URL:https://liverpoolcemetery.com.au/event/mention-my-name-prayer-service-liverpool/
LOCATION:All Saints Parish Liverpool\, 48 George Street\, Liverpool\, NSW\, 2170\, Australia
ATTACH;FMTTYPE=image/jpeg:https://liverpoolcemetery.com.au/wp-content/uploads/CCC-MMN-fb-e1661133452290.jpg
END:VEVENT
BEGIN:VEVENT
DTSTART;TZID=Australia/Sydney:20220906T110000
DTEND;TZID=Australia/Sydney:20220906T120000
DTSTAMP:20260420T022447
CREATED:20220721T003916Z
LAST-MODIFIED:20220721T004003Z
UID:9756-1662462000-1662465600@liverpoolcemetery.com.au
SUMMARY:Bereaved Parents Group
DESCRIPTION:Bereaved Parents Group \nA space for your grief and a chance to connect with other bereaved parents.\nMorning tea is provided. \nWhen: 6th September 2022\nWhere: To Be confirmed each Month\nTime: 11am-12 pm \nPlease RSVP prior to:\nCarmela Di Pietro: Phone: 0498 271 649 or Email:  carmela@catholiccemeteries.com.au
URL:https://liverpoolcemetery.com.au/event/bereaved-parents-group-3/
ATTACH;FMTTYPE=image/jpeg:https://liverpoolcemetery.com.au/wp-content/uploads/GC-BereavedParent-FB-0522-e1658362474872.jpg
END:VEVENT
BEGIN:VEVENT
DTSTART;TZID=Australia/Sydney:20220903T170000
DTEND;TZID=Australia/Sydney:20220903T180000
DTSTAMP:20260420T022447
CREATED:20220726T235709Z
LAST-MODIFIED:20220726T235820Z
UID:9781-1662224400-1662228000@liverpoolcemetery.com.au
SUMMARY:Father's Day Mass at Our Lady of Victories Church
DESCRIPTION:Please join us for Father’s Day Mass at Our Lady of Victories Church\, Horsley Park\n\n\n\n\nFather’s Day is a special day for many to reflect and show their love and appreciation to fathers\, grandfathers and father figures who may no longer be with us. \n\n\n\n\n\n\nPlease join us for our special mass on Saturday 3 September 2022 at 5pm at Our Lady of Victories Church\, Horsley Park.
URL:https://liverpoolcemetery.com.au/event/fathers-day-mass-at-our-lady-of-victories-church/
ATTACH;FMTTYPE=image/jpeg:https://liverpoolcemetery.com.au/wp-content/uploads/fathers-day-2022-e1658879225762.jpg
END:VEVENT
BEGIN:VEVENT
DTSTART;TZID=Australia/Sydney:20220903T120000
DTEND;TZID=Australia/Sydney:20220903T130000
DTSTAMP:20260420T022447
CREATED:20220726T235008Z
LAST-MODIFIED:20220905T052806Z
UID:9778-1662206400-1662210000@liverpoolcemetery.com.au
SUMMARY:Father's Day Mass Rookwood Catholic Cemetery
DESCRIPTION:Please join us for Father’s Day Mass at Rookwood Catholic Cemetery\n\n\n\nFather’s Day is a special day for many to reflect and show their love and appreciation to fathers\, grandfathers and father figures who may no longer be with us. \nPlease join us for our special mass: \nSaturday 3 September 2022 at 12pm at the Mary\, Mother of Mercy Chapel at Rookwood Catholic Cemetery. \nThe mass will be followed by morning tea in the adjoining lounge. \nView the Father’s Mass
URL:https://liverpoolcemetery.com.au/event/fathers-day-mass-rookwood-catholic-cemetery/
LOCATION:Rookwood Catholic Cemetery\, Barnet Avenue\, Rookwood\, NSW\, 2141\, Australia
ATTACH;FMTTYPE=image/jpeg:https://liverpoolcemetery.com.au/wp-content/uploads/fathers-day-2022-e1658879225762.jpg
END:VEVENT
BEGIN:VEVENT
DTSTART;TZID=Australia/Sydney:20220901T193000
DTEND;TZID=Australia/Sydney:20220901T203000
DTSTAMP:20260420T022447
CREATED:20220721T003552Z
LAST-MODIFIED:20231109T011737Z
UID:9754-1662060600-1662064200@liverpoolcemetery.com.au
SUMMARY:Men’s Grief Gathering
DESCRIPTION:Men’s Grief Gathering \nWe are inviting men who are grieving\, or experienced loss\, to join us in a safe and confidential online gathering. It’s an opportunity to share experiences or just ‘be” and listen. \nNo judgements. No fixing. Just listening and walking alongside each other in grief. \nOur next meeting will be held at 7.30 pm on\nThursday 1 September 2022 via Zoom \nJoin Zoom Meeting \nMeeting ID: 834 1432 1878\nPasscode: 446258 \nFor further details\, please call Terry from the Grief Care Team on 9646 6908 during business hours or email tgrady@catholiccemeteries.com.au or search ‘Men’s Grief Gathering’ on Facebook
URL:https://liverpoolcemetery.com.au/event/mens-grief-gathering-2/
ATTACH;FMTTYPE=image/jpeg:https://liverpoolcemetery.com.au/wp-content/uploads/web-mens-gathering-e1658363479898.jpg
END:VEVENT
BEGIN:VEVENT
DTSTART;TZID=Australia/Sydney:20220831T090000
DTEND;TZID=Australia/Sydney:20220831T093000
DTSTAMP:20260420T022447
CREATED:20220721T002738Z
LAST-MODIFIED:20220721T002738Z
UID:9749-1661936400-1661938200@liverpoolcemetery.com.au
SUMMARY:Press Pause Online Meditation
DESCRIPTION:Press Pause Online Meditation\n\n\n\nJoin us weekly and gift yourself 30 minutes to Press Pause…and rest a while.\n\nWhen: Weekly on Wednesdays\nTime: 9am – 9.30am \nJoin us on Zoom
URL:https://liverpoolcemetery.com.au/event/press-pause-online-meditation-4/
ATTACH;FMTTYPE=image/jpeg:https://liverpoolcemetery.com.au/wp-content/uploads/Press-Pause_FB_0721-e1658357613607.jpg
END:VEVENT
BEGIN:VEVENT
DTSTART;TZID=Australia/Sydney:20220826T113000
DTEND;TZID=Australia/Sydney:20220826T123000
DTSTAMP:20260420T022447
CREATED:20220624T230452Z
LAST-MODIFIED:20231031T054058Z
UID:9707-1661513400-1661517000@liverpoolcemetery.com.au
SUMMARY:Compassionate Companions
DESCRIPTION:A safe place where stories are shared and memories are honoured. \nWhen: Fortnightly on Fridays\nTime: 11.30am – 12.30pm \nJoin us on Zoom \n\nMeeting ID: 969 4042 6907\n\nPasscode: 437686
URL:https://liverpoolcemetery.com.au/event/compassionate-companions-11/
ATTACH;FMTTYPE=image/jpeg:https://liverpoolcemetery.com.au/wp-content/uploads/GC-CompCom-Banner1-web.jpg
END:VEVENT
BEGIN:VEVENT
DTSTART;TZID=Australia/Sydney:20220824T090000
DTEND;TZID=Australia/Sydney:20220824T093000
DTSTAMP:20260420T022447
CREATED:20220721T002521Z
LAST-MODIFIED:20231031T060113Z
UID:9747-1661331600-1661333400@liverpoolcemetery.com.au
SUMMARY:Press Pause Online Meditation
DESCRIPTION:Press Pause Online Meditation \nJoin us weekly and gift yourself 30 minutes to Press Pause…and rest a while.\n\nWhen: Weekly on Wednesdays\nTime: 9am – 9.30am \nJoin us on Zoom
URL:https://liverpoolcemetery.com.au/event/press-pause-online-meditation-3/
ATTACH;FMTTYPE=image/jpeg:https://liverpoolcemetery.com.au/wp-content/uploads/Press-Pause_FB_0721-e1658357613607.jpg
END:VEVENT
BEGIN:VEVENT
DTSTART;TZID=Australia/Sydney:20220812T113000
DTEND;TZID=Australia/Sydney:20220812T123000
DTSTAMP:20260420T022447
CREATED:20220624T230006Z
LAST-MODIFIED:20231031T054046Z
UID:9705-1660303800-1660307400@liverpoolcemetery.com.au
SUMMARY:Compassionate Companions
DESCRIPTION:A safe place where stories are shared and memories are honoured. \nWhen: Fortnightly on Fridays\nTime: 11.30am – 12.30pm \nJoin us on Zoom \n\nMeeting ID: 969 4042 6907\n\nPasscode: 437686
URL:https://liverpoolcemetery.com.au/event/compassionate-companions-10/
ATTACH;FMTTYPE=image/jpeg:https://liverpoolcemetery.com.au/wp-content/uploads/GC-CompCom-Banner1-web.jpg
END:VEVENT
BEGIN:VEVENT
DTSTART;TZID=Australia/Sydney:20220810T103000
DTEND;TZID=Australia/Sydney:20220810T113000
DTSTAMP:20260420T022447
CREATED:20220621T224759Z
LAST-MODIFIED:20220621T225231Z
UID:9678-1660127400-1660131000@liverpoolcemetery.com.au
SUMMARY:August Monthly Mass – Liverpool
DESCRIPTION:Please join us for our August Monthly Mass\nWhen: 10.30am\, Wednesday 10th August 2022\nWhere: All Saints Parish\, Liverpool \nPresided By: Fr Michael Smith
URL:https://liverpoolcemetery.com.au/event/july-monthly-mass-liverpool-2/
LOCATION:All Saints Parish Liverpool\, 48 George Street\, Liverpool\, NSW\, 2170\, Australia
ATTACH;FMTTYPE=image/jpeg:https://liverpoolcemetery.com.au/wp-content/uploads/white-lily-on-bench-at-funeral.jpg
END:VEVENT
BEGIN:VEVENT
DTSTART;TZID=Australia/Sydney:20220810T090000
DTEND;TZID=Australia/Sydney:20220810T093000
DTSTAMP:20260420T022447
CREATED:20220721T001954Z
LAST-MODIFIED:20231031T060138Z
UID:9745-1660122000-1660123800@liverpoolcemetery.com.au
SUMMARY:Press Pause Online Meditation
DESCRIPTION:Press Pause Online Meditation\n\n\n\nJoin us weekly and gift yourself 30 minutes to Press Pause…and rest a while.\n\nWhen: Weekly on Wednesdays\nTime: 9am – 9.30am \nJoin us on Zoom
URL:https://liverpoolcemetery.com.au/event/press-pause-online-meditation-2/
ATTACH;FMTTYPE=image/jpeg:https://liverpoolcemetery.com.au/wp-content/uploads/Press-Pause_FB_0721-e1658357613607.jpg
END:VEVENT
BEGIN:VEVENT
DTSTART;TZID=Australia/Sydney:20220804T193000
DTEND;TZID=Australia/Sydney:20220804T203000
DTSTAMP:20260420T022447
CREATED:20220721T003137Z
LAST-MODIFIED:20220721T003137Z
UID:9752-1659641400-1659645000@liverpoolcemetery.com.au
SUMMARY:Men’s Grief Gathering
DESCRIPTION:Men’s Grief Gathering \nWe are inviting men who are grieving\, or experienced loss\, to join us in a safe and confidential online gathering. It’s an opportunity to share experiences or just ‘be” and listen. \nNo judgements. No fixing. Just listening and walking alongside each other in grief. \nOur next meeting will be held at 7.30 pm on\nThursday 4 August 2022 via Zoom \nJoin Zoom Meeting \nMeeting ID: 834 1432 1878\nPasscode: 446258 \nFor further details\, please call Terry from the Grief Care Team on 9646 6908 during business hours or email tgrady@catholiccemeteries.com.au or search ‘Men’s Grief Gathering’ on Facebook
URL:https://liverpoolcemetery.com.au/event/mens-grief-gathering/
ATTACH;FMTTYPE=image/jpeg:https://liverpoolcemetery.com.au/wp-content/uploads/web-mens-gathering-e1658363479898.jpg
END:VEVENT
END:VCALENDAR