BEGIN:VCALENDAR
VERSION:2.0
PRODID:-//Liverpool Cemetery - ECPv6.15.11//NONSGML v1.0//EN
CALSCALE:GREGORIAN
METHOD:PUBLISH
X-WR-CALNAME:Liverpool Cemetery
X-ORIGINAL-URL:https://liverpoolcemetery.com.au
X-WR-CALDESC:Events for Liverpool Cemetery
REFRESH-INTERVAL;VALUE=DURATION:PT1H
X-Robots-Tag:noindex
X-PUBLISHED-TTL:PT1H
BEGIN:VTIMEZONE
TZID:Australia/Sydney
BEGIN:STANDARD
TZOFFSETFROM:+1100
TZOFFSETTO:+1000
TZNAME:AEST
DTSTART:20210403T160000
END:STANDARD
BEGIN:DAYLIGHT
TZOFFSETFROM:+1000
TZOFFSETTO:+1100
TZNAME:AEDT
DTSTART:20211002T160000
END:DAYLIGHT
BEGIN:STANDARD
TZOFFSETFROM:+1100
TZOFFSETTO:+1000
TZNAME:AEST
DTSTART:20220402T160000
END:STANDARD
BEGIN:DAYLIGHT
TZOFFSETFROM:+1000
TZOFFSETTO:+1100
TZNAME:AEDT
DTSTART:20221001T160000
END:DAYLIGHT
BEGIN:STANDARD
TZOFFSETFROM:+1100
TZOFFSETTO:+1000
TZNAME:AEST
DTSTART:20230401T160000
END:STANDARD
BEGIN:DAYLIGHT
TZOFFSETFROM:+1000
TZOFFSETTO:+1100
TZNAME:AEDT
DTSTART:20230930T160000
END:DAYLIGHT
BEGIN:STANDARD
TZOFFSETFROM:+1100
TZOFFSETTO:+1000
TZNAME:AEST
DTSTART:20240406T160000
END:STANDARD
BEGIN:DAYLIGHT
TZOFFSETFROM:+1000
TZOFFSETTO:+1100
TZNAME:AEDT
DTSTART:20241005T160000
END:DAYLIGHT
END:VTIMEZONE
BEGIN:VEVENT
DTSTART;TZID=Australia/Sydney:20230705T190000
DTEND;TZID=Australia/Sydney:20230705T200000
DTSTAMP:20260420T093901
CREATED:20230701T112438Z
LAST-MODIFIED:20230702T094100Z
UID:10481-1688583600-1688587200@liverpoolcemetery.com.au
SUMMARY:Men’s Grief Gathering
DESCRIPTION:The Men’s Grief Gathering will be held monthly on the first Wednesday of every month.\n\nWhere: Dooley’s Lidcombe Catholic Club\n11 – 17 Church Street\, Lidcombe\nTime: 7pm\n\nRSVP: tgrady@catholiccemeteries.com.au\n\nFor more details\nPlease call Terry from the Grief Care Team on 9646 6908 during business hours or email tgrady@catholiccemeteries.com.au\nOR call Chris on 0418 488 791
URL:https://liverpoolcemetery.com.au/event/mens-grief-gathering-4/
LOCATION:Dooleys Catholic Club Lidcombe\, 11-17 Church Street\, Lidcombe\, NSW\, 2141\, Australia
ATTACH;FMTTYPE=image/jpeg:https://liverpoolcemetery.com.au/wp-content/uploads/web-mens-gathering-e1658363479898.jpg
END:VEVENT
BEGIN:VEVENT
DTSTART;TZID=Australia/Sydney:20230704T110000
DTEND;TZID=Australia/Sydney:20230704T120000
DTSTAMP:20260420T093901
CREATED:20230701T104321Z
LAST-MODIFIED:20230701T104321Z
UID:10473-1688468400-1688472000@liverpoolcemetery.com.au
SUMMARY:Bereaved Parents Group
DESCRIPTION:Bereaved Parents Group \nA space for your grief and a chance to connect with other bereaved parents.\nMorning tea is provided. \nWhen: 4th July 2023\nWhere: Quattre Café\,  7 Cave Rd\, Strathfield NSW 2135\nTime: 11am-12 pm \nPlease RSVP prior to:\nGrief Care: Phone 9646 6908 or Carmela: 0498 271 649  Email:carmela@catholiccemeteries.com.au
URL:https://liverpoolcemetery.com.au/event/bereaved-parents-group-8/
LOCATION:Quattre Café\, 7 Cave Road\, Strathfield\, NSW\, 2135\, Australia
ATTACH;FMTTYPE=image/jpeg:https://liverpoolcemetery.com.au/wp-content/uploads/GC-BereavedParent-FB-0522-e1658362474872.jpg
END:VEVENT
BEGIN:VEVENT
DTSTART;TZID=Australia/Sydney:20230621T180000
DTEND;TZID=Australia/Sydney:20230621T193000
DTSTAMP:20260420T093901
CREATED:20230527T105543Z
LAST-MODIFIED:20230621T063208Z
UID:10420-1687370400-1687375800@liverpoolcemetery.com.au
SUMMARY:Sydney Homeless Memorial Service
DESCRIPTION:Please join us for this special Memorial Service commemorating all individuals who have died while experiencing homelessness in the past year.\nIn collaboration with PAYCE\, End Street Sleeping. \nWhen: Wednesday 21 June 2023 at 6pm \nWhere: Martin Place Amphitheatre\, Sydney \nAll Welcome \nClick to view the Memorial Service Live-Stream at 6pm on the 21st June\, 2023\nGrief Care team members are available for pastoral support on all masses.\nP: 02 9646 6908 E: team@griefcare.com.au
URL:https://liverpoolcemetery.com.au/event/sydney-homeless-memorial-service-2/
LOCATION:NSW
ATTACH;FMTTYPE=image/jpeg:https://liverpoolcemetery.com.au/wp-content/uploads/homeless.jpg
END:VEVENT
BEGIN:VEVENT
DTSTART;TZID=Australia/Sydney:20230614T103000
DTEND;TZID=Australia/Sydney:20230614T113000
DTSTAMP:20260420T093901
CREATED:20230527T105911Z
LAST-MODIFIED:20230527T105911Z
UID:10424-1686738600-1686742200@liverpoolcemetery.com.au
SUMMARY:Monthly Mass Liverpool Cemetery
DESCRIPTION:Please join us for our Monthly Mass every 2nd Wednesday of every month \nTime: 10.30am \nWhere: Liverpool Cemetery\, Padre Pio Chapel \nPresided By: Fr Michael Smith \n– Hospitality provided after mass for community gathering \nGrief Care team members are available for pastoral support on all masses.\nP: 02 9646 6908 E: team@griefcare.com.au
URL:https://liverpoolcemetery.com.au/event/monthly-mass-liverpool-cemetery-10/
LOCATION:Liverpool Cemetery\, 207 Moore Street\, Liverpool\, NSW\, 2170\, Australia
ATTACH;FMTTYPE=image/jpeg:https://liverpoolcemetery.com.au/wp-content/uploads/Floral-5-Events.jpg
END:VEVENT
BEGIN:VEVENT
DTSTART;TZID=Australia/Sydney:20230606T110000
DTEND;TZID=Australia/Sydney:20230606T120000
DTSTAMP:20260420T093901
CREATED:20230527T110103Z
LAST-MODIFIED:20230527T110103Z
UID:10427-1686049200-1686052800@liverpoolcemetery.com.au
SUMMARY:Bereaved Parents Group
DESCRIPTION:Bereaved Parents Group \nA space for your grief and a chance to connect with other bereaved parents.\nMorning tea is provided. \nWhen: 6th June 2023\nWhere: Quattre Café\,  7 Cave Rd\, Strathfield NSW 2135\nTime: 11am-12 pm \nPlease RSVP prior to:\nGrief Care: Phone 9646 6908 or Carmela: 0498 271 649  Email: carmela@catholiccemeteries.com.au
URL:https://liverpoolcemetery.com.au/event/bereaved-parents-group-7/
LOCATION:Quattre Café\, 7 Cave Road\, Strathfield\, NSW\, 2135\, Australia
ATTACH;FMTTYPE=image/jpeg:https://liverpoolcemetery.com.au/wp-content/uploads/GC-BereavedParent-FB-0522-e1658362474872.jpg
END:VEVENT
BEGIN:VEVENT
DTSTART;TZID=Australia/Sydney:20230518T100000
DTEND;TZID=Australia/Sydney:20230518T113000
DTSTAMP:20260420T093901
CREATED:20230409T010901Z
LAST-MODIFIED:20230414T083001Z
UID:10393-1684404000-1684409400@liverpoolcemetery.com.au
SUMMARY:Stations of the Light – Rookwood Catholic Cemetery
DESCRIPTION:Please join us for this special Stations of the Light event at Rookwood Catholic Cemetery. \nWhere: The Waterway at Rookwood Catholic Cemetery\nWhen: 10am\, 18th May\, 2023 \n\n– Hospitality provided after mass for community gathering\n– Onsite parking available \nRSVP: By 11th May\, 2023\nPhone: 02 9646 6908 Email: team@griefcare.com.au \nGrief Care team members are available for pastoral support on all masses\nE: team@griefcare.com.au
URL:https://liverpoolcemetery.com.au/event/stations-of-the-light-rookwood-catholic-cemetery/
LOCATION:Rookwood Catholic Cemetery\, Barnet Avenue\, Rookwood\, NSW\, 2141\, Australia
ATTACH;FMTTYPE=image/jpeg:https://liverpoolcemetery.com.au/wp-content/uploads/GC-StationsCross-fb.jpg
END:VEVENT
BEGIN:VEVENT
DTSTART;TZID=Australia/Sydney:20230513T103000
DTEND;TZID=Australia/Sydney:20230513T120000
DTSTAMP:20260420T093901
CREATED:20230408T231050Z
LAST-MODIFIED:20230408T231835Z
UID:10359-1683973800-1683979200@liverpoolcemetery.com.au
SUMMARY:Mother’s Day Mass - Liverpool Cemetery
DESCRIPTION:We hope you can join us for one of our special Mother’s Day Mass at Liverpool Cemetery on Saturday 13th May\, 2023\nWhen: Saturday 13th May\, 2023 at 10.30am\nWhere: The Reflection Chapel\, Liverpool Cemetery\nPresided by: Fr Anthony Fregolent CS \n– Hospitality provided after mass\n– Onsite parking available \nRSVP BY:  5th May\, 2023 Email to: team@griefcare.com.au \n\nGrief Care team members are available for pastoral support on all masses.\nP: 02 9646 6908 E:team@griefcare.com.au
URL:https://liverpoolcemetery.com.au/event/mothers-day-mass-liverpool-cemetery/
LOCATION:Liverpool Cemetery\, 207 Moore Street\, Liverpool\, NSW\, 2170\, Australia
ATTACH;FMTTYPE=image/jpeg:https://liverpoolcemetery.com.au/wp-content/uploads/Floral-3-Events.jpg
END:VEVENT
BEGIN:VEVENT
DTSTART;TZID=Australia/Sydney:20230510T103000
DTEND;TZID=Australia/Sydney:20230510T113000
DTSTAMP:20260420T093901
CREATED:20230409T000052Z
LAST-MODIFIED:20230409T000149Z
UID:10389-1683714600-1683718200@liverpoolcemetery.com.au
SUMMARY:Monthly Mass Liverpool Cemetery
DESCRIPTION:Please join us for our Monthly Mass every 2nd Wednesday of every month \nTime: 10.30am \nAll Saints Catholic Parish\n48 George Street\, Liverpool 2170\n(parking entrance via Elizabeth Street) \nPresided By: Fr Michael Smith \nGrief Care team members are available for pastoral support on all masses.\nP: 02 9646 6908 E: team@griefcare.com.au
URL:https://liverpoolcemetery.com.au/event/monthly-mass-liverpool-cemetery-9/
LOCATION:All Saints Parish Liverpool\, 48 George Street\, Liverpool\, NSW\, 2170\, Australia
ATTACH;FMTTYPE=image/jpeg:https://liverpoolcemetery.com.au/wp-content/uploads/Floral-7-Events.jpg
END:VEVENT
BEGIN:VEVENT
DTSTART;TZID=Australia/Sydney:20230502T110000
DTEND;TZID=Australia/Sydney:20230502T120000
DTSTAMP:20260420T093901
CREATED:20230408T235701Z
LAST-MODIFIED:20230408T235701Z
UID:10386-1683025200-1683028800@liverpoolcemetery.com.au
SUMMARY:Bereaved Parents Group
DESCRIPTION:Bereaved Parents Group \nA space for your grief and a chance to connect with other bereaved parents.\nMorning tea is provided. \nWhen: 2nd May 2023\nWhere: Quattre Café\,  7 Cave Rd\, Strathfield NSW 2135\nTime: 11am-12 pm \nPlease RSVP prior to:\nGrief Care: Phone 9646 6908 or Carmela: 0498 271 649  Email: carmela@catholiccemeteries.com.au
URL:https://liverpoolcemetery.com.au/event/bereaved-parents-group-6/
LOCATION:Quattre Café\, 7 Cave Road\, Strathfield\, NSW\, 2135\, Australia
ATTACH;FMTTYPE=image/jpeg:https://liverpoolcemetery.com.au/wp-content/uploads/GC-BereavedParent-FB-0522-e1658362474872.jpg
END:VEVENT
BEGIN:VEVENT
DTSTART;TZID=Australia/Sydney:20230412T103000
DTEND;TZID=Australia/Sydney:20230412T113000
DTSTAMP:20260420T093901
CREATED:20230220T105438Z
LAST-MODIFIED:20230220T105438Z
UID:10307-1681295400-1681299000@liverpoolcemetery.com.au
SUMMARY:Monthly Mass Liverpool Cemetery
DESCRIPTION:Please join us for our Monthly Mass every 2nd Wednesday of every month \nTime: 10.30am \nAll Saints Catholic Parish\n48 George Street\, Liverpool 2170\n(parking entrance via Elizabeth Street) \nPresided By: Fr Michael Smith \nGrief Care team members are available for pastoral support on all masses.\nP: 02 9646 6908 E: team@griefcare.com.au
URL:https://liverpoolcemetery.com.au/event/monthly-mass-liverpool-cemetery-8/
LOCATION:All Saints Parish Liverpool\, 48 George Street\, Liverpool\, NSW\, 2170\, Australia
ATTACH;FMTTYPE=image/jpeg:https://liverpoolcemetery.com.au/wp-content/uploads/flowers-wide2.jpg
END:VEVENT
BEGIN:VEVENT
DTSTART;TZID=Australia/Sydney:20230404T110000
DTEND;TZID=Australia/Sydney:20230404T123000
DTSTAMP:20260420T093901
CREATED:20230220T104843Z
LAST-MODIFIED:20230220T104910Z
UID:10302-1680606000-1680611400@liverpoolcemetery.com.au
SUMMARY:Stations of the Cross Walk
DESCRIPTION:Please join us for the Stations of The Cross  Walk at The Waterway – Rookwood Catholic Cemetery. \n11am\, 4th April\, 2023 \nHospitality will be provided at the Waterway Chapel afterwards \nGrief Care team members are available at all events\nP: 02 9646 6908 E: team@griefcare.com.au\nRSVP Essential: By 24th March 2023\nEmail: care@griefcare.com.au
URL:https://liverpoolcemetery.com.au/event/stations-of-the-cross-walk/
LOCATION:Rookwood Catholic Cemetery\, Barnet Avenue\, Rookwood\, NSW\, 2141\, Australia
ATTACH;FMTTYPE=image/jpeg:https://liverpoolcemetery.com.au/wp-content/uploads/rook-waterway1.jpg
END:VEVENT
BEGIN:VEVENT
DTSTART;TZID=Australia/Sydney:20230404T110000
DTEND;TZID=Australia/Sydney:20230404T120000
DTSTAMP:20260420T093901
CREATED:20230220T105209Z
LAST-MODIFIED:20230220T105209Z
UID:10305-1680606000-1680609600@liverpoolcemetery.com.au
SUMMARY:Bereaved Parents Group
DESCRIPTION:Bereaved Parents Group \nA space for your grief and a chance to connect with other bereaved parents.\nMorning tea is provided. \nWhen: 4th April 2023\nWhere: Quattre Café\,  7 Cave Rd\, Strathfield NSW 2135\nTime: 11am-12 pm \nPlease RSVP prior to:\nGrief Care: Phone 9646 6908 or Carmela: 0498 271 649  Email: carmela@catholiccemeteries.com.au
URL:https://liverpoolcemetery.com.au/event/bereaved-parents-group-5/
LOCATION:Quattre Café\, 7 Cave Road\, Strathfield\, NSW\, 2135\, Australia
ATTACH;FMTTYPE=image/jpeg:https://liverpoolcemetery.com.au/wp-content/uploads/GC-BereavedParent-FB-0522-e1658362474872.jpg
END:VEVENT
BEGIN:VEVENT
DTSTART;TZID=Australia/Sydney:20230315T100000
DTEND;TZID=Australia/Sydney:20230315T120000
DTSTAMP:20260420T093901
CREATED:20230220T104617Z
LAST-MODIFIED:20230220T104617Z
UID:10300-1678874400-1678881600@liverpoolcemetery.com.au
SUMMARY:Stations of the Cross
DESCRIPTION:Please join us for the Stations of The Cross at The Waterway – Rookwood Catholic Cemetery. \n10am\, 15th March\, 2023 \nHospitality will be provided at the Waterway Chapel afterwards \nGrief Care team members are available at all events\nP: 02 9646 6908 E: team@griefcare.com.au
URL:https://liverpoolcemetery.com.au/event/stations-of-the-cross/
LOCATION:Rookwood Catholic Cemetery\, Barnet Avenue\, Rookwood\, NSW\, 2141\, Australia
ATTACH;FMTTYPE=image/jpeg:https://liverpoolcemetery.com.au/wp-content/uploads/2019/07/WOTX_MemorialGarden_3-600x300.jpg
END:VEVENT
BEGIN:VEVENT
DTSTART;TZID=Australia/Sydney:20230314T110000
DTEND;TZID=Australia/Sydney:20230314T130000
DTSTAMP:20260420T093901
CREATED:20230220T103634Z
LAST-MODIFIED:20230308T040037Z
UID:10292-1678791600-1678798800@liverpoolcemetery.com.au
SUMMARY:Ageing Well Masterclass 6 Workshop
DESCRIPTION:Bringing together a team of clincal experts and professionals in the field of ageing\, the Ageing Well masterclasses are designed to provide practical assistance and support to help navigate some of the issues around ageing\, including vital information about available services. \nMasterclass 6 will be held on Tuesday 14th March at 11am\, concluding at approximately 1pm. Lunch will be included. \nHosted by St Peter Chanel and St Joseph Parish located at 60 Kingsland Road\, Berala. \nEvent Dates in Berala for 2023 are:  \n\nTuesday 14 March\n\nRegister to Lea: Ph: 9644 7787 or REGISTER ONLINE
URL:https://liverpoolcemetery.com.au/event/ageing-well-masterclass-6-workshop/
LOCATION:St Joseph Parish\, 60 Kingsland Road\, Berala\, NSW\, 2141\, Australia
ATTACH;FMTTYPE=image/jpeg:https://liverpoolcemetery.com.au/wp-content/uploads/hero-image-ageing-well.jpg
END:VEVENT
BEGIN:VEVENT
DTSTART;TZID=Australia/Sydney:20230308T103000
DTEND;TZID=Australia/Sydney:20230308T113000
DTSTAMP:20260420T093901
CREATED:20230220T104322Z
LAST-MODIFIED:20230220T104322Z
UID:10298-1678271400-1678275000@liverpoolcemetery.com.au
SUMMARY:Monthly Mass Liverpool Cemetery
DESCRIPTION:Please join us for our Monthly Mass every 2nd Wednesday of every month \nTime: 10.30am \nAll Saints Catholic Parish\n48 George Street\, Liverpool 2170\n(parking entrance via Elizabeth Street) \nPresided By: Fr Michael Smith \nGrief Care team members are available for pastoral support on all masses.\nP: 02 9646 6908 E: team@griefcare.com.au
URL:https://liverpoolcemetery.com.au/event/monthly-mass-liverpool-cemetery-7/
LOCATION:All Saints Parish Liverpool\, 48 George Street\, Liverpool\, NSW\, 2170\, Australia
ATTACH;FMTTYPE=image/jpeg:https://liverpoolcemetery.com.au/wp-content/uploads/Floral-7-Events.jpg
END:VEVENT
BEGIN:VEVENT
DTSTART;TZID=Australia/Sydney:20230307T110000
DTEND;TZID=Australia/Sydney:20230307T120000
DTSTAMP:20260420T093901
CREATED:20230220T103223Z
LAST-MODIFIED:20230220T103223Z
UID:10288-1678186800-1678190400@liverpoolcemetery.com.au
SUMMARY:Bereaved Parents Group
DESCRIPTION:Bereaved Parents Group \nA space for your grief and a chance to connect with other bereaved parents.\nMorning tea is provided. \nWhen: 7th March 2023\nWhere: Quattre Café\, 7 Cave Rd\, Strathfield NSW 2135\nTime: 11am-12 pm \nPlease RSVP prior to:\nGrief Care: Phone 9646 6908 or Carmela: 0498 271 649  Email:carmela@catholiccemeteries.com.au
URL:https://liverpoolcemetery.com.au/event/bereaved-parents-group-4/
LOCATION:Quattre Café\, 7 Cave Road\, Strathfield\, NSW\, 2135\, Australia
ATTACH;FMTTYPE=image/jpeg:https://liverpoolcemetery.com.au/wp-content/uploads/GC-BereavedParent-FB-0522-e1658362474872.jpg
END:VEVENT
BEGIN:VEVENT
DTSTART;TZID=Australia/Sydney:20230220T080000
DTEND;TZID=Australia/Sydney:20230220T170000
DTSTAMP:20260420T093901
CREATED:20230220T104114Z
LAST-MODIFIED:20230220T104114Z
UID:10296-1676880000-1676912400@liverpoolcemetery.com.au
SUMMARY:Monthly Mass Liverpool Cemetery
DESCRIPTION:Please join us for our Monthly Mass every 2nd Wednesday of every month \nTime: 10.30am \nAll Saints Catholic Parish\n48 George Street\, Liverpool 2170\n(parking entrance via Elizabeth Street) \nPresided By: Fr Michael Smith \nGrief Care team members are available for pastoral support on all masses.\nP: 02 9646 6908 E: team@griefcare.com.au
URL:https://liverpoolcemetery.com.au/event/monthly-mass-liverpool-cemetery-6/
LOCATION:All Saints Parish Liverpool\, 48 George Street\, Liverpool\, NSW\, 2170\, Australia
ATTACH;FMTTYPE=image/jpeg:https://liverpoolcemetery.com.au/wp-content/uploads/Floral-7-Events.jpg
END:VEVENT
BEGIN:VEVENT
DTSTART;TZID=Australia/Sydney:20230216T103000
DTEND;TZID=Australia/Sydney:20230216T113000
DTSTAMP:20260420T093901
CREATED:20221229T205441Z
LAST-MODIFIED:20221229T205441Z
UID:10143-1676543400-1676547000@liverpoolcemetery.com.au
SUMMARY:Kemps Creek Memorial Park Monthly Mass
DESCRIPTION:Please join us for our Monthly Mass every 3rd Thursday of every month\nTime: 10.30am\nWhere: Our Lady of Victories Catholic Parish\n1788 The Horsley Drive\, Horsley Park 2175 \n– Hospitality provided after mass for community gathering\n– Onsite parking available \nGrief Care team members are available for pastoral support on all masses.\nP: 02 9646 6908 E: team@griefcare.com.au
URL:https://liverpoolcemetery.com.au/event/kemps-creek-memorial-park-monthly-mass-2/
LOCATION:Our Ladies of Victories Parish\, 1788 The Horsley Drive\, Horsley Park\, NSW\, 2175\, Australia
ATTACH;FMTTYPE=image/jpeg:https://liverpoolcemetery.com.au/wp-content/uploads/Floral-4-Events.jpg
END:VEVENT
BEGIN:VEVENT
DTSTART;TZID=Australia/Sydney:20230208T103000
DTEND;TZID=Australia/Sydney:20230208T113000
DTSTAMP:20260420T093901
CREATED:20221229T205055Z
LAST-MODIFIED:20221229T205055Z
UID:10141-1675852200-1675855800@liverpoolcemetery.com.au
SUMMARY:Monthly Mass Liverpool Cemetery
DESCRIPTION:Please join us for our Monthly Mass every 2nd Wednesday of every month \nTime: 10.30am \nAll Saints Catholic Parish\n48 George Street\, Liverpool 2170\n(parking entrance via Elizabeth Street) \nPresided By: Fr Michael Smith \nGrief Care team members are available for pastoral support on all masses.\nP: 02 9646 6908 E: team@griefcare.com.au
URL:https://liverpoolcemetery.com.au/event/monthly-mass-liverpool-cemetery-5/
LOCATION:All Saints Parish Liverpool\, 48 George Street\, Liverpool\, NSW\, 2170\, Australia
ATTACH;FMTTYPE=image/jpeg:https://liverpoolcemetery.com.au/wp-content/uploads/Floral-5-Events.jpg
END:VEVENT
BEGIN:VEVENT
DTSTART;TZID=Australia/Sydney:20230207T094500
DTEND;TZID=Australia/Sydney:20230207T104500
DTSTAMP:20260420T093901
CREATED:20221229T204802Z
LAST-MODIFIED:20221229T204802Z
UID:10139-1675763100-1675766700@liverpoolcemetery.com.au
SUMMARY:Monthly Mass Rookwood Catholic Cemetery
DESCRIPTION:Please join us for our Monthly Mass every 1st Tuesday of every month \nTime: 9.45am \nWhere: The Mausoleum of the Resurrection Chapel\, Rookwood Catholic Cemetery \n– Hospitality provided after mass\n– Onsite parking available \nPresided By: Fr Peter Guy \nGrief Care team members are available for pastoral support on all masses.\nP: 02 9646 6908 E:team@griefcare.com.au
URL:https://liverpoolcemetery.com.au/event/monthly-mass-rookwood-catholic-cemetery-2/
LOCATION:Rookwood Catholic Cemetery\, Barnet Avenue\, Rookwood\, NSW\, 2141\, Australia
ATTACH;FMTTYPE=image/jpeg:https://liverpoolcemetery.com.au/wp-content/uploads/Statue-Liverpool-1.jpg
END:VEVENT
BEGIN:VEVENT
DTSTART;TZID=Australia/Sydney:20230119T103000
DTEND;TZID=Australia/Sydney:20230119T113000
DTSTAMP:20260420T093901
CREATED:20221229T204303Z
LAST-MODIFIED:20221229T204348Z
UID:10135-1674124200-1674127800@liverpoolcemetery.com.au
SUMMARY:Kemps Creek Memorial Park Monthly Mass
DESCRIPTION:Please join us for our Monthly Mass every 3rd Thursday of every month\nTime: 10.30am\nWhere: Our Lady of Victories Catholic Parish\n1788 The Horsley Drive\, Horsley Park 2175 \n– Hospitality provided after mass for community gathering\n– Onsite parking available \nGrief Care team members are available for pastoral support on all masses.\nP: 02 9646 6908 E: team@griefcare.com.au
URL:https://liverpoolcemetery.com.au/event/kemps-creek-memorial-park-monthly-mass/
LOCATION:Our Ladies of Victories Parish\, 1788 The Horsley Drive\, Horsley Park\, NSW\, 2175\, Australia
ATTACH;FMTTYPE=image/jpeg:https://liverpoolcemetery.com.au/wp-content/uploads/Floral-2-Events.jpg
END:VEVENT
BEGIN:VEVENT
DTSTART;TZID=Australia/Sydney:20230111T103000
DTEND;TZID=Australia/Sydney:20230111T113000
DTSTAMP:20260420T093901
CREATED:20221229T203739Z
LAST-MODIFIED:20221229T203739Z
UID:10133-1673433000-1673436600@liverpoolcemetery.com.au
SUMMARY:Monthly Mass Liverpool Cemetery
DESCRIPTION:Please join us for our Monthly Mass every 2nd Wednesday of every month \nTime: 10.30am \nAll Saints Catholic Parish\n48 George Street\, Liverpool 2170\n(parking entrance via Elizabeth Street) \nPresided By: Fr Michael Smith \nGrief Care team members are available for pastoral support on all masses.\nP: 02 9646 6908 E: team@griefcare.com.au
URL:https://liverpoolcemetery.com.au/event/monthly-mass-liverpool-cemetery-4/
LOCATION:All Saints Parish Liverpool\, 48 George Street\, Liverpool\, NSW\, 2170\, Australia
ATTACH;FMTTYPE=image/jpeg:https://liverpoolcemetery.com.au/wp-content/uploads/Floral-7-Events.jpg
END:VEVENT
BEGIN:VEVENT
DTSTART;TZID=Australia/Sydney:20230103T094500
DTEND;TZID=Australia/Sydney:20230103T104500
DTSTAMP:20260420T093901
CREATED:20221229T203428Z
LAST-MODIFIED:20221229T203428Z
UID:10122-1672739100-1672742700@liverpoolcemetery.com.au
SUMMARY:Monthly Mass Rookwood Catholic Cemetery
DESCRIPTION:Please join us for our Monthly Mass every 1st Tuesday of every month \nTime: 9.45am \nWhere: The Mausoleum of the Resurrection Chapel\, Rookwood Catholic Cemetery \n– Hospitality provided after mass\n– Onsite parking available \nPresided By: Fr Peter Guy \nGrief Care team members are available for pastoral support on all masses.\nP: 02 9646 6908 E:team@griefcare.com.au
URL:https://liverpoolcemetery.com.au/event/monthly-mass-rookwood-catholic-cemetery/
LOCATION:Rookwood Catholic Cemetery\, Barnet Avenue\, Rookwood\, NSW\, 2141\, Australia
ATTACH;FMTTYPE=image/jpeg:https://liverpoolcemetery.com.au/wp-content/uploads/Floral-1-Events.jpg
END:VEVENT
BEGIN:VEVENT
DTSTART;TZID=Australia/Sydney:20221218T193000
DTEND;TZID=Australia/Sydney:20221218T203000
DTSTAMP:20260420T093901
CREATED:20221102T080421Z
LAST-MODIFIED:20221215T025742Z
UID:9979-1671391800-1671395400@liverpoolcemetery.com.au
SUMMARY:Christmas Remembrance Service 2022
DESCRIPTION:Catholic Cemeteries + Crematoria warmly invites you and your family to join us for our special Interfaith Christmas Remembrance Service to remember those we have lost in 2022. \nWhen: 7.30pm\, Sunday 18th December\, 2022\nWhere: St Mary’s Cathedral\, Sydney\nPresided by: Most Reverend Terence Brady\nAuxiliary Bishop Emeritus of Sydney \nLive music performances \nAll Welcome \nVIEW THE SERVICE LIVESTREAM \nRSVP NOW
URL:https://liverpoolcemetery.com.au/event/christmas-remembrance-service-2022/
LOCATION:St Mary’s Cathedral\, 2 St Mary's Road\, Sydney\, NSW\, 2000\, Australia
ATTACH;FMTTYPE=image/jpeg:https://liverpoolcemetery.com.au/wp-content/uploads/christmas-carols.jpg
END:VEVENT
BEGIN:VEVENT
DTSTART;TZID=Australia/Sydney:20221208T173000
DTEND;TZID=Australia/Sydney:20221208T193000
DTSTAMP:20260420T093901
CREATED:20221102T060500Z
LAST-MODIFIED:20221102T060500Z
UID:9967-1670520600-1670527800@liverpoolcemetery.com.au
SUMMARY:Men’s Grief Gathering
DESCRIPTION:The next Men’s Grief Gathering will be held on 8 December at\n\nWhere: The Keg and Brew at Surry Hills\,\nTime: 5.30 pm to 7.30 pm.\n\nRSVP: tgrady@catholiccemeteries.com.au\n\nFor more details\nPlease call Terry from the Grief Care Team on 9646 6908 during business hours or email tgrady@catholiccemeteries.com.au\nOR call Chris on 0418 488 791
URL:https://liverpoolcemetery.com.au/event/mens-grief-gathering-3/
LOCATION:NSW
ATTACH;FMTTYPE=image/jpeg:https://liverpoolcemetery.com.au/wp-content/uploads/web-mens-gathering-1-e1658363717416.jpg
END:VEVENT
BEGIN:VEVENT
DTSTART;TZID=Australia/Sydney:20221129T180000
DTEND;TZID=Australia/Sydney:20221129T200000
DTSTAMP:20260420T093901
CREATED:20221102T060146Z
LAST-MODIFIED:20221117T214751Z
UID:9963-1669744800-1669752000@liverpoolcemetery.com.au
SUMMARY:TAIZE Prayer Service
DESCRIPTION:Please join us for our TAIZE Prayer Service \nWhen: 6pm\, Tuesday 29th November 2022 \nWhere: St Michael of the Archangel Chapel\, Rookwood Catholic Cemetery \nGrief Care team members are available for pastoral support on all masses.\nP: 02 9646 6908 E: team@griefcare.com.au
URL:https://liverpoolcemetery.com.au/event/taize-prayer-service/
LOCATION:Rookwood Catholic Cemetery\, Barnet Avenue\, Rookwood\, NSW\, 2141\, Australia
ATTACH;FMTTYPE=image/jpeg:https://liverpoolcemetery.com.au/wp-content/uploads/Grief-care-TAIZE-Prayer.jpg
END:VEVENT
BEGIN:VEVENT
DTSTART;TZID=Australia/Sydney:20221123T120000
DTEND;TZID=Australia/Sydney:20221123T140000
DTSTAMP:20260420T093901
CREATED:20221102T055707Z
LAST-MODIFIED:20221103T001941Z
UID:9960-1669204800-1669212000@liverpoolcemetery.com.au
SUMMARY:Deceased Clergy & Religious Mass
DESCRIPTION:We hope you can join us for this special Mass + Luncheon \nWhen: 12 Noon\, Wednesday 23rd November \nWhere: Mary\, Mother of Mercy Chapel\, Rookwood Catholic Cemetery \nRSVP by 11th November: RSVP TODAY
URL:https://liverpoolcemetery.com.au/event/deceased-clergy-religious-mass/
LOCATION:Rookwood Catholic Cemetery\, Barnet Avenue\, Rookwood\, NSW\, 2141\, Australia
ATTACH;FMTTYPE=image/jpeg:https://liverpoolcemetery.com.au/wp-content/uploads/CCC-DPR-fb-e1665979685989.jpg
END:VEVENT
BEGIN:VEVENT
DTSTART;TZID=Australia/Sydney:20221118T113000
DTEND;TZID=Australia/Sydney:20221118T123000
DTSTAMP:20260420T093901
CREATED:20221102T061518Z
LAST-MODIFIED:20221102T061647Z
UID:9971-1668771000-1668774600@liverpoolcemetery.com.au
SUMMARY:Compassionate Companions
DESCRIPTION:A safe place where stories are shared and memories are honoured. \nWhen: Fortnightly on Fridays\nTime: 11.30am – 12.30pm \nJoin us on Zoom \n\nMeeting ID: 969 4042 6907\n\nPasscode: 437686
URL:https://liverpoolcemetery.com.au/event/compassionate-companions-14/
LOCATION:NSW
ATTACH;FMTTYPE=image/jpeg:https://liverpoolcemetery.com.au/wp-content/uploads/GC-CompCom-Banner1-fb-e1646446330809.jpg
END:VEVENT
BEGIN:VEVENT
DTSTART;TZID=Australia/Sydney:20221116T183000
DTEND;TZID=Australia/Sydney:20221116T193000
DTSTAMP:20260420T093901
CREATED:20221102T055045Z
LAST-MODIFIED:20221102T055107Z
UID:9957-1668623400-1668627000@liverpoolcemetery.com.au
SUMMARY:Mention My Name\, Memorial Mass – Mortlake
DESCRIPTION:Please join us for this special Memorial Mass \nThis memorial mass will remember those who have lost lives through suicide or self-harm\, and\nwe pray for their grieving families\, friends\, caregivers and first responders. \nWhen:\n6.30pm Wednesday 16th November 2022 \nWhere:\nSt Patrick’s Parish\, Mortlake\n33 Gale Street\, Mortlake \nAll are Welcome\nGrief Care team members are available for pastoral support on all masses.\nP: 02 9646 6908 E:team@griefcare.com.au
URL:https://liverpoolcemetery.com.au/event/mention-my-name-memorial-mass-mortlake/
LOCATION:St Patrick’s Parish\, Mortlake\, 33 Gale Street\, Mortlake\, NSW\, 2137\, Australia
ATTACH;FMTTYPE=image/jpeg:https://liverpoolcemetery.com.au/wp-content/uploads/CCC-MMN-fb-e1661133452290.jpg
END:VEVENT
BEGIN:VEVENT
DTSTART;TZID=Australia/Sydney:20221109T183000
DTEND;TZID=Australia/Sydney:20221109T193000
DTSTAMP:20260420T093901
CREATED:20221102T054645Z
LAST-MODIFIED:20221102T054645Z
UID:9953-1668018600-1668022200@liverpoolcemetery.com.au
SUMMARY:Remembering Our Babies Mass of the Angels
DESCRIPTION:Please join us for this special service for Pregnancy\, Infant & Child Loss Service \nWhen: 6.30pm Wednesday 9th November 2022 \nWhere: St Patrick’s Parish\, Mortlake\n33 Gale Street\, Mortlake \n  \nAll are Welcome\nGrief Care team members are available for pastoral support on all masses.\nP: 02 9646 6908 E:team@griefcare.com.au
URL:https://liverpoolcemetery.com.au/event/remembering-our-babies-mass-of-the-angels/
LOCATION:St Patrick’s Parish\, Mortlake\, 33 Gale Street\, Mortlake\, NSW\, 2137\, Australia
ATTACH;FMTTYPE=image/jpeg:https://liverpoolcemetery.com.au/wp-content/uploads/CCC-ROB-Mortlake-fb-e1667371496389.jpg
END:VEVENT
END:VCALENDAR