BEGIN:VCALENDAR
VERSION:2.0
PRODID:-//Liverpool Cemetery - ECPv6.15.11//NONSGML v1.0//EN
CALSCALE:GREGORIAN
METHOD:PUBLISH
X-WR-CALNAME:Liverpool Cemetery
X-ORIGINAL-URL:https://liverpoolcemetery.com.au
X-WR-CALDESC:Events for Liverpool Cemetery
REFRESH-INTERVAL;VALUE=DURATION:PT1H
X-Robots-Tag:noindex
X-PUBLISHED-TTL:PT1H
BEGIN:VTIMEZONE
TZID:Australia/Sydney
BEGIN:STANDARD
TZOFFSETFROM:+1100
TZOFFSETTO:+1000
TZNAME:AEST
DTSTART:20250405T160000
END:STANDARD
BEGIN:DAYLIGHT
TZOFFSETFROM:+1000
TZOFFSETTO:+1100
TZNAME:AEDT
DTSTART:20251004T160000
END:DAYLIGHT
BEGIN:STANDARD
TZOFFSETFROM:+1100
TZOFFSETTO:+1000
TZNAME:AEST
DTSTART:20260404T160000
END:STANDARD
BEGIN:DAYLIGHT
TZOFFSETFROM:+1000
TZOFFSETTO:+1100
TZNAME:AEDT
DTSTART:20261003T160000
END:DAYLIGHT
BEGIN:STANDARD
TZOFFSETFROM:+1100
TZOFFSETTO:+1000
TZNAME:AEST
DTSTART:20270403T160000
END:STANDARD
BEGIN:DAYLIGHT
TZOFFSETFROM:+1000
TZOFFSETTO:+1100
TZNAME:AEDT
DTSTART:20271002T160000
END:DAYLIGHT
END:VTIMEZONE
BEGIN:VEVENT
DTSTART;TZID=Australia/Sydney:20260505T190000
DTEND;TZID=Australia/Sydney:20260505T210000
DTSTAMP:20260420T203948
CREATED:20260420T044001Z
LAST-MODIFIED:20260420T044012Z
UID:19438-1778007600-1778014800@liverpoolcemetery.com.au
SUMMARY:Compassionate Companions Mens Group
DESCRIPTION:Join us for our Compassionate Companions Mens Group \nInviting men who are experiencing Grief and Loss\, to come together in a safe and welcoming space.\nNo judgements. No fixing. Just listening and walking alongside each other in grief. \nWhen: First Tuesday of the month\nTime:  From 7pm – 9pm\nWhere: St Joachim’s Parish Lidcombe\, 2 Mills Street Lidcombe \nHospitality included \nFor further information contact Grief Care on Ph: 02 9646 6908  or E: team@griefcare.com.au \nGrief Care team members are available for pastoral support on all masses.
URL:https://liverpoolcemetery.com.au/event/compassionate-companions-mens-group-14/
LOCATION:St Joachim’s Parish Lidcombe\, 2 Mills Street\, Lidcombe\, NSW\, 2141\, Australia
ATTACH;FMTTYPE=image/jpeg:https://liverpoolcemetery.com.au/wp-content/uploads/GC-Mens-Group-0125.jpg
END:VEVENT
BEGIN:VEVENT
DTSTART;TZID=Australia/Sydney:20260508T113000
DTEND;TZID=Australia/Sydney:20260508T123000
DTSTAMP:20260420T203948
CREATED:20260420T044327Z
LAST-MODIFIED:20260420T044327Z
UID:19441-1778239800-1778243400@liverpoolcemetery.com.au
SUMMARY:Compassionate Companions Online
DESCRIPTION:Join us for our Online Compassionate Companions \nAn opportunity to gather in a safe space to connect with others and share experiences of loss\, grief and bereavement. \nWhen: Second Friday of the month\nTime: From 11.30am – 12.30pm Via Zoom \nJOIN THE MEETING NOW\nFor further information contact Grief Care on Ph: 02 9646 6908  or E: team@griefcare.com.au\nGrief Care team members are available for pastoral support on all masses.
URL:https://liverpoolcemetery.com.au/event/compassionate-companions-online-15/
LOCATION:NSW
ATTACH;FMTTYPE=image/jpeg:https://liverpoolcemetery.com.au/wp-content/uploads/omp-Companions-Online-2.jpg
END:VEVENT
BEGIN:VEVENT
DTSTART;TZID=Australia/Sydney:20260509T103000
DTEND;TZID=Australia/Sydney:20260509T130000
DTSTAMP:20260420T203948
CREATED:20260412T120356Z
LAST-MODIFIED:20260412T120356Z
UID:19404-1778322600-1778331600@liverpoolcemetery.com.au
SUMMARY:Mother’s Day Mass at Liverpool Cemetery
DESCRIPTION:We hope you can join us for our special Mother’s Day Mass\nWhen: Saturday 9th May\, 2026 at 10.30am\nWhere: Reflection Chapel\, Liverpool Cemetery \n– Hospitality will be provided after mass \nPlease RSVP By: 1st May for catering numbers\nPhone: 02 9646 6908  or Email: team@griefcare.com.au \n\nGrief Care team members are available for pastoral support on all masses.\nP: 02 9646 6908 E: team@griefcare.com.au
URL:https://liverpoolcemetery.com.au/event/mothers-day-mass-at-liverpool-cemetery-2/
LOCATION:Liverpool Cemetery\, 207 Moore Street\, Liverpool\, NSW\, 2170\, Australia
ATTACH;FMTTYPE=image/jpeg:https://liverpoolcemetery.com.au/wp-content/uploads/LCC-mothers-day.jpg
END:VEVENT
BEGIN:VEVENT
DTSTART;TZID=Australia/Sydney:20260520T103000
DTEND;TZID=Australia/Sydney:20260520T111500
DTSTAMP:20260420T203948
CREATED:20260420T044617Z
LAST-MODIFIED:20260420T044617Z
UID:19443-1779273000-1779275700@liverpoolcemetery.com.au
SUMMARY:Monthly Mass at Liverpool Cemetery
DESCRIPTION:Please join us for our Monthly Mass on the 3rd Wednesday of every month at Liverpool Cemetery \nTime: 10.30am\nLiverpool Cemetery\nPadre Pio Chapel \n– Hospitality provided after mass \nGrief Care team members are available for pastoral support on all masses.\nP: 02 9646 6908 E: team@griefcare.com.au
URL:https://liverpoolcemetery.com.au/event/monthly-mass-at-liverpool-cemetery-30/
LOCATION:Liverpool Cemetery\, 207 Moore Street\, Liverpool\, NSW\, 2170\, Australia
ATTACH;FMTTYPE=image/jpeg:https://liverpoolcemetery.com.au/wp-content/uploads/AdobeStock_226739609.jpg
END:VEVENT
BEGIN:VEVENT
DTSTART;TZID=Australia/Sydney:20260520T111500
DTEND;TZID=Australia/Sydney:20260520T123000
DTSTAMP:20260420T203948
CREATED:20260420T044953Z
LAST-MODIFIED:20260420T045004Z
UID:19445-1779275700-1779280200@liverpoolcemetery.com.au
SUMMARY:Compassionate Companions at Liverpool
DESCRIPTION:An opportunity to gather in a safe space to connect with others and share experiences of loss\, grief and bereavement. \nWhen: Every 3rd Wednesday of the month following the Monthly Mass\nTime: 11.15am – 12.30pm\nWhere: Padre Pio Chapel\, Liverpool Cemetery \nMorning tea provided \nRSVP:\nGrief Care: Phone 9646 6908\nEmail: team@griefcare.com.au
URL:https://liverpoolcemetery.com.au/event/compassionate-companions-at-liverpool-27/
LOCATION:Liverpool Cemetery\, 207 Moore Street\, Liverpool\, NSW\, 2170\, Australia
ATTACH;FMTTYPE=image/jpeg:https://liverpoolcemetery.com.au/wp-content/uploads/compassionate-Companions-Liverpool.jpg
END:VEVENT
END:VCALENDAR