BEGIN:VCALENDAR
VERSION:2.0
PRODID:-//Liverpool Cemetery - ECPv6.15.11//NONSGML v1.0//EN
CALSCALE:GREGORIAN
METHOD:PUBLISH
X-WR-CALNAME:Liverpool Cemetery
X-ORIGINAL-URL:https://liverpoolcemetery.com.au
X-WR-CALDESC:Events for Liverpool Cemetery
REFRESH-INTERVAL;VALUE=DURATION:PT1H
X-Robots-Tag:noindex
X-PUBLISHED-TTL:PT1H
BEGIN:VTIMEZONE
TZID:Australia/Sydney
BEGIN:STANDARD
TZOFFSETFROM:+1100
TZOFFSETTO:+1000
TZNAME:AEST
DTSTART:20200404T160000
END:STANDARD
BEGIN:DAYLIGHT
TZOFFSETFROM:+1000
TZOFFSETTO:+1100
TZNAME:AEDT
DTSTART:20201003T160000
END:DAYLIGHT
BEGIN:STANDARD
TZOFFSETFROM:+1100
TZOFFSETTO:+1000
TZNAME:AEST
DTSTART:20210403T160000
END:STANDARD
BEGIN:DAYLIGHT
TZOFFSETFROM:+1000
TZOFFSETTO:+1100
TZNAME:AEDT
DTSTART:20211002T160000
END:DAYLIGHT
BEGIN:STANDARD
TZOFFSETFROM:+1100
TZOFFSETTO:+1000
TZNAME:AEST
DTSTART:20220402T160000
END:STANDARD
BEGIN:DAYLIGHT
TZOFFSETFROM:+1000
TZOFFSETTO:+1100
TZNAME:AEDT
DTSTART:20221001T160000
END:DAYLIGHT
END:VTIMEZONE
BEGIN:VEVENT
DTSTART;TZID=Australia/Sydney:20210113T103000
DTEND;TZID=Australia/Sydney:20210113T113000
DTSTAMP:20260425T013328
CREATED:20210103T233022Z
LAST-MODIFIED:20210114T214905Z
UID:8331-1610533800-1610537400@liverpoolcemetery.com.au
SUMMARY:Monthly Mass Liverpool Cemetery
DESCRIPTION:Please join us for our Monthly Mass Liverpool Cemetery\nLive-streamed from the All Saints Parish\, Liverpool\n10.30am on the 13th January 2021 \nView the online Mass
URL:https://liverpoolcemetery.com.au/event/monthly-mass-liverpool-cemetery/
ATTACH;FMTTYPE=image/jpeg:https://liverpoolcemetery.com.au/wp-content/uploads/catholic-cemeteries-slide-9.jpg
END:VEVENT
END:VCALENDAR